BEGIN:VCALENDAR
VERSION:2.0
PRODID:-//VILA - Blog - ECPv4.5.12.2//NONSGML v1.0//EN
CALSCALE:GREGORIAN
METHOD:PUBLISH
X-WR-CALNAME:VILA - Blog
X-ORIGINAL-URL:https://blog.livrariadavila.com.br
X-WR-CALDESC:Events for VILA - Blog
BEGIN:VEVENT
DTSTART;TZID=America/Sao_Paulo:20200126T150000
DTEND;TZID=America/Sao_Paulo:20200126T160000
DTSTAMP:20260422T053909
CREATED:20191226T142738Z
LAST-MODIFIED:20191226T142738Z
UID:112221-1580050800-1580054400@blog.livrariadavila.com.br
SUMMARY:Contação de histórias: A joaninha Aninha\, Godofredo - O lobo que tinha medo\, Safira – O unicórnio azul e Léo – A lagarta sonhadora
DESCRIPTION:Com Miriam Leonila de Oliveira \nEd. Inverso \n
URL:https://blog.livrariadavila.com.br/event/contacao-de-historias-a-joaninha-aninha-godofredo-o-lobo-que-tinha-medo-safira-o-unicornio-azul-e-leo-a-lagarta-sonhadora/
LOCATION:Avenida do Batel\, nº 1868 – Loja 314 piso L3\, Curitiba\, Paraná\, 80420-090\, Brasil
GEO:-25.443012;-49.2899507
X-APPLE-STRUCTURED-LOCATION;VALUE=URI;X-ADDRESS=Avenida do Batel nº 1868 – Loja 314 piso L3 Curitiba Paraná 80420-090 Brasil;X-APPLE-RADIUS=500;X-TITLE=Avenida do Batel\, nº 1868 – Loja 314 piso L3:geo:-49.2899507,-25.443012
CATEGORIES:FÉRIAS NA VILA
END:VEVENT
END:VCALENDAR