BEGIN:VCALENDAR
VERSION:2.0
PRODID:-//VILA - Blog - ECPv4.5.12.2//NONSGML v1.0//EN
CALSCALE:GREGORIAN
METHOD:PUBLISH
X-WR-CALNAME:VILA - Blog
X-ORIGINAL-URL:https://blog.livrariadavila.com.br
X-WR-CALDESC:Events for VILA - Blog
BEGIN:VEVENT
DTSTART;TZID=America/Sao_Paulo:20200118T160000
DTEND;TZID=America/Sao_Paulo:20200118T170000
DTSTAMP:20260423T050636
CREATED:20191226T153418Z
LAST-MODIFIED:20200118T125500Z
UID:112266-1579363200-1579366800@blog.livrariadavila.com.br
SUMMARY:Contação de histórias: Baby shark
DESCRIPTION:Ed. Intrínseca \n
URL:https://blog.livrariadavila.com.br/event/contacao-de-historias-baby-shark-2/
CATEGORIES:FÉRIAS NA VILA
END:VEVENT
END:VCALENDAR