BEGIN:VCALENDAR
VERSION:2.0
PRODID:-//VILA - Blog - ECPv4.5.12.2//NONSGML v1.0//EN
CALSCALE:GREGORIAN
METHOD:PUBLISH
X-WR-CALNAME:VILA - Blog
X-ORIGINAL-URL:https://blog.livrariadavila.com.br
X-WR-CALDESC:Events for VILA - Blog
BEGIN:VEVENT
DTSTART;TZID=America/Sao_Paulo:20200112T160000
DTEND;TZID=America/Sao_Paulo:20200112T170000
DTSTAMP:20260422T204016
CREATED:20191226T150512Z
LAST-MODIFIED:20191226T150512Z
UID:112244-1578844800-1578848400@blog.livrariadavila.com.br
SUMMARY:Contação de histórias: Ceuci\, a mãe do pranto
DESCRIPTION:Com Cristino Wapichana \nEd. Estrela Cultural \n
URL:https://blog.livrariadavila.com.br/event/contacao-de-historias-ceuci-a-mae-do-pranto/
LOCATION:Rua Pamplona\, 1704\, São Paulo\, São Paulo\, 01405-000\, Brasil
GEO:-23.5702482;-46.6612794
X-APPLE-STRUCTURED-LOCATION;VALUE=URI;X-ADDRESS=Rua Pamplona 1704 São Paulo São Paulo 01405-000 Brasil;X-APPLE-RADIUS=500;X-TITLE=Rua Pamplona\, 1704:geo:-46.6612794,-23.5702482
CATEGORIES:FÉRIAS NA VILA
END:VEVENT
END:VCALENDAR