BEGIN:VCALENDAR
VERSION:2.0
PRODID:-//VILA - Blog - ECPv4.5.12.2//NONSGML v1.0//EN
CALSCALE:GREGORIAN
METHOD:PUBLISH
X-WR-CALNAME:VILA - Blog
X-ORIGINAL-URL:https://blog.livrariadavila.com.br
X-WR-CALDESC:Events for VILA - Blog
BEGIN:VEVENT
DTSTART;TZID=America/Sao_Paulo:20230709T150000
DTEND;TZID=America/Sao_Paulo:20230709T160000
DTSTAMP:20260423T101433
CREATED:20230705T155806Z
LAST-MODIFIED:20230705T155806Z
UID:118222-1688914800-1688918400@blog.livrariadavila.com.br
SUMMARY:CONTAÇÃO DE HISTÓRIAS HISTÓRIAS DE NINAR PARA GAROTAS REBELDES: 100 BRASILEIRAS EXTRAORDINÁRIAS - COM ZENAIDE - ED. OUTRO PLANETA
DESCRIPTION: \n
URL:https://blog.livrariadavila.com.br/event/contacao-de-historias-historias-de-ninar-para-garotas-rebeldes-100-brasileiras-extraordinarias-com-zenaide-ed-outro-planeta/
LOCATION:Av. Regente Feijó\, nº 1739 – Loja L11 – Vl.\, São Paulo\, São Paulo\, 03342-900
END:VEVENT
END:VCALENDAR