BEGIN:VCALENDAR
VERSION:2.0
PRODID:-//VILA - Blog - ECPv4.5.12.2//NONSGML v1.0//EN
CALSCALE:GREGORIAN
METHOD:PUBLISH
X-WR-CALNAME:VILA - Blog
X-ORIGINAL-URL:https://blog.livrariadavila.com.br
X-WR-CALDESC:Events for VILA - Blog
BEGIN:VEVENT
DTSTART;TZID=America/Sao_Paulo:20191208T150000
DTEND;TZID=America/Sao_Paulo:20191208T180000
DTSTAMP:20260423T095304
CREATED:20191202T183718Z
LAST-MODIFIED:20191202T183718Z
UID:104463-1575817200-1575828000@blog.livrariadavila.com.br
SUMMARY:Contação de Histórias: Lute como uma princesa
DESCRIPTION:E se o destino das princesas não se resumisse em casar com o Príncipe Encantado e viver feliz para sempre? Conheça um novo lado de suas princesas favoritas nesta exuberante coletânea em que 15 contos de fadas são recontados para uma nova geração de crianças. Em Lute como uma princesa\, Vita Murrow e Julia Bereciartu ousaram criar um mundo de princesas poderosas onde Bela é uma destemida detetive e se aventura sem medo pela Floresta Proibida\, Rapunzel torna-se uma renomada arquiteta que usa suas habilidades para mudar a realidade de sua comunidade e Cinderela é uma líder trabalhista em busca de justiça para todos. Essas novas histórias focadas em autoestima\, empatia\, representatividade e defesa de minorias redefinem o que significa ser uma princesa. E ensinam\, acima de tudo\, que uma princesa é alguém que está aberta para aprender coisas novas e que busca formas para dar mais sentido à vida daqueles que vivem perto delas. \n  \nDe Vita Murrow e Julia Bereciartu \nEd. Boitatá \n
URL:https://blog.livrariadavila.com.br/event/contacao-de-historias-lute-como-uma-princesa/
LOCATION:Rua Fradique Coutinho\, 915 - Pinheiros\, São Paulo\, São Paulo\, 05416-011\, Brasil
GEO:-23.5592934;-46.6892019
X-APPLE-STRUCTURED-LOCATION;VALUE=URI;X-ADDRESS=Rua Fradique Coutinho 915 - Pinheiros São Paulo São Paulo 05416-011 Brasil;X-APPLE-RADIUS=500;X-TITLE=Rua Fradique Coutinho\, 915 - Pinheiros:geo:-46.6892019,-23.5592934
CATEGORIES:ATIVIDADES INFANTIS
END:VEVENT
END:VCALENDAR