BEGIN:VCALENDAR
VERSION:2.0
PRODID:-//VILA - Blog - ECPv4.5.12.2//NONSGML v1.0//EN
CALSCALE:GREGORIAN
METHOD:PUBLISH
X-WR-CALNAME:VILA - Blog
X-ORIGINAL-URL:https://blog.livrariadavila.com.br
X-WR-CALDESC:Events for VILA - Blog
BEGIN:VEVENT
DTSTART;TZID=America/Sao_Paulo:20191020T150000
DTEND;TZID=America/Sao_Paulo:20191020T170000
DTSTAMP:20260420T181056
CREATED:20191003T164307Z
LAST-MODIFIED:20191003T172100Z
UID:99640-1571583600-1571590800@blog.livrariadavila.com.br
SUMMARY:Contação de Histórias: Mordísco
DESCRIPTION:  \n  \nCom massinha de modelar \nEd. Ciranda Cultural \n
URL:https://blog.livrariadavila.com.br/event/contacao-de-historias-mordisco/
LOCATION:Rua Pamplona\, 1704\, São Paulo\, São Paulo\, 01405-000\, Brasil
GEO:-23.5702482;-46.6612794
X-APPLE-STRUCTURED-LOCATION;VALUE=URI;X-ADDRESS=Rua Pamplona 1704 São Paulo São Paulo 01405-000 Brasil;X-APPLE-RADIUS=500;X-TITLE=Rua Pamplona\, 1704:geo:-46.6612794,-23.5702482
CATEGORIES:ATIVIDADES INFANTIS
END:VEVENT
END:VCALENDAR