BEGIN:VCALENDAR
VERSION:2.0
PRODID:-//VILA - Blog - ECPv4.5.12.2//NONSGML v1.0//EN
CALSCALE:GREGORIAN
METHOD:PUBLISH
X-WR-CALNAME:VILA - Blog
X-ORIGINAL-URL:https://blog.livrariadavila.com.br
X-WR-CALDESC:Events for VILA - Blog
BEGIN:VEVENT
DTSTART;TZID=America/Sao_Paulo:20200126T160000
DTEND;TZID=America/Sao_Paulo:20200126T170000
DTSTAMP:20260423T225917
CREATED:20191226T173239Z
LAST-MODIFIED:20191226T173239Z
UID:112288-1580054400-1580058000@blog.livrariadavila.com.br
SUMMARY:Contação de histórias: Músicos de Bremem - Conto Irmãos Grim
DESCRIPTION:Apresentação interativa\, junto com as crianças\, com pandeiros e alguns instrumentos musicais de brinquedos. Depois o Peppi comandara com seu violoncelo músicas de cantigas de rodas para as crianças acompanharem com os instrumentos de brinquedos. \n  \nCom Ruth Beserra e Mateus Peppi \nIndependente \n
URL:https://blog.livrariadavila.com.br/event/contacao-de-historias-musicos-de-bremem-conto-irmaos-grim-2/
LOCATION:Av. Higienópolis\, 618 – Higienópolis\, São Paulo\, SP\, 01238-000\, Brasil
GEO:-23.542049;-46.6577148
X-APPLE-STRUCTURED-LOCATION;VALUE=URI;X-ADDRESS=Av. Higienópolis 618 – Higienópolis São Paulo SP 01238-000 Brasil;X-APPLE-RADIUS=500;X-TITLE=Av. Higienópolis\, 618 – Higienópolis:geo:-46.6577148,-23.542049
CATEGORIES:FÉRIAS NA VILA
END:VEVENT
END:VCALENDAR