BEGIN:VCALENDAR
VERSION:2.0
PRODID:-//VILA - Blog - ECPv4.5.12.2//NONSGML v1.0//EN
CALSCALE:GREGORIAN
METHOD:PUBLISH
X-WR-CALNAME:VILA - Blog
X-ORIGINAL-URL:https://blog.livrariadavila.com.br
X-WR-CALDESC:Events for VILA - Blog
BEGIN:VEVENT
DTSTART;TZID=America/Sao_Paulo:20200112T160000
DTEND;TZID=America/Sao_Paulo:20200112T170000
DTSTAMP:20260424T003416
CREATED:20191226T173343Z
LAST-MODIFIED:20191226T173343Z
UID:112290-1578844800-1578848400@blog.livrariadavila.com.br
SUMMARY:Contação de histórias: Músicos de Bremem - Conto Irmãos Grim
DESCRIPTION:Apresentação interativa\, junto com as crianças\, com pandeiros e alguns instrumentos musicais de brinquedos. Depois o Peppi comandara com seu violoncelo músicas de cantigas de rodas para as crianças acompanharem com os instrumentos de brinquedos. \n  \nCom Ruth Beserra e Mateus Peppi \nIndependente \n
URL:https://blog.livrariadavila.com.br/event/contacao-de-historias-musicos-de-bremem-conto-irmaos-grim-3/
LOCATION:Av. Moema\, 493\, São Paulo\, São Paulo\, 04077-022\, Brasil
GEO:-23.6060908;-46.6565273
X-APPLE-STRUCTURED-LOCATION;VALUE=URI;X-ADDRESS=Av. Moema 493 São Paulo São Paulo 04077-022 Brasil;X-APPLE-RADIUS=500;X-TITLE=Av. Moema\, 493:geo:-46.6565273,-23.6060908
CATEGORIES:FÉRIAS NA VILA
END:VEVENT
END:VCALENDAR