BEGIN:VCALENDAR
VERSION:2.0
PRODID:-//VILA - Blog - ECPv4.5.12.2//NONSGML v1.0//EN
CALSCALE:GREGORIAN
METHOD:PUBLISH
X-WR-CALNAME:VILA - Blog
X-ORIGINAL-URL:https://blog.livrariadavila.com.br
X-WR-CALDESC:Events for VILA - Blog
BEGIN:VEVENT
DTSTART;TZID=America/Sao_Paulo:20200125T160000
DTEND;TZID=America/Sao_Paulo:20200125T170000
DTSTAMP:20260423T154135
CREATED:20191226T155755Z
LAST-MODIFIED:20191226T155755Z
UID:112276-1579968000-1579971600@blog.livrariadavila.com.br
SUMMARY:Contação de histórias: O mistério do coelho pensante
DESCRIPTION:Com Zenaide Denardi \nEd. Rocco \n
URL:https://blog.livrariadavila.com.br/event/contacao-de-historias-o-misterio-do-coelho-pensante/
LOCATION:Rua Fradique Coutinho\, 915 - Pinheiros\, São Paulo\, São Paulo\, 05416-011\, Brasil
GEO:-23.5592934;-46.6892019
X-APPLE-STRUCTURED-LOCATION;VALUE=URI;X-ADDRESS=Rua Fradique Coutinho 915 - Pinheiros São Paulo São Paulo 05416-011 Brasil;X-APPLE-RADIUS=500;X-TITLE=Rua Fradique Coutinho\, 915 - Pinheiros:geo:-46.6892019,-23.5592934
CATEGORIES:FÉRIAS NA VILA
END:VEVENT
END:VCALENDAR