BEGIN:VCALENDAR
VERSION:2.0
PRODID:-//VILA - Blog - ECPv4.5.12.2//NONSGML v1.0//EN
CALSCALE:GREGORIAN
METHOD:PUBLISH
X-WR-CALNAME:VILA - Blog
X-ORIGINAL-URL:https://blog.livrariadavila.com.br
X-WR-CALDESC:Events for VILA - Blog
BEGIN:VEVENT
DTSTART;TZID=America/Sao_Paulo:20200118T160000
DTEND;TZID=America/Sao_Paulo:20200118T170000
DTSTAMP:20260423T082905
CREATED:20191226T154356Z
LAST-MODIFIED:20200107T165729Z
UID:112270-1579363200-1579366800@blog.livrariadavila.com.br
SUMMARY:Contação de histórias para encantar corações e fazer o esqueleto balançar
DESCRIPTION:Venha ouvir histórias que nossas avós contavam e outras que elas nem imaginavam que existiam. Os contadores\, convidam para uma super viagem\, onde amores impossíveis são capazes de acontecer\, aqui você vai descobrir que os olhos do coração falam muito mais alto. Vamos viver aventuras\, desvendar mistérios\, segredos\, cantar\, dançar e nos divertir! \n  \nCom Dudu Andrade e Bibi Nakazato \nEd. Fio de Histórias \n
URL:https://blog.livrariadavila.com.br/event/contacao-de-historias-para-encantar-coracoes-e-fazer-o-esqueleto-balancar-2/
LOCATION:Av. Juscelino Kubitschek\, 2041 - Itaim Bibi\, São Paulo\, São Paulo\, 04543-011\, Brasil
GEO:-23.5914219;-46.6898224
X-APPLE-STRUCTURED-LOCATION;VALUE=URI;X-ADDRESS=Av. Juscelino Kubitschek 2041 - Itaim Bibi São Paulo São Paulo 04543-011 Brasil;X-APPLE-RADIUS=500;X-TITLE=Av. Juscelino Kubitschek\, 2041 - Itaim Bibi:geo:-46.6898224,-23.5914219
CATEGORIES:FÉRIAS NA VILA
END:VEVENT
END:VCALENDAR