BEGIN:VCALENDAR
VERSION:2.0
PRODID:-//VILA - Blog - ECPv4.5.12.2//NONSGML v1.0//EN
CALSCALE:GREGORIAN
METHOD:PUBLISH
X-WR-CALNAME:VILA - Blog
X-ORIGINAL-URL:https://blog.livrariadavila.com.br
X-WR-CALDESC:Events for VILA - Blog
BEGIN:VEVENT
DTSTART;TZID=America/Sao_Paulo:20250201T163000
DTEND;TZID=America/Sao_Paulo:20250201T193000
DTSTAMP:20260421T045418
CREATED:20241213T133926Z
LAST-MODIFIED:20241213T133926Z
UID:125524-1738427400-1738438200@blog.livrariadavila.com.br
SUMMARY:CONTOS DE LENDII - VOLUME 1- RAFAEL B. JUCK – ED. INDEPENDENTE
DESCRIPTION: \nEsse é o primeiro livro dos Contos de Lendii. Nele encontrará histórias profundas e envolventes de diversos personagens espalhados por Lendii\, histórias que nos tocam em sua individualidade\, mas que também se conectam em um plano maior. Viaje por esse mundo multicultural e diverso criado por R. B. Juck\, cheio de influências de culturas que ajudaram a formar a identidade do povo brasileiro. \n
URL:https://blog.livrariadavila.com.br/event/contos-de-lendii-volume-1-rafael-b-juck-ed-independente/
LOCATION:Rua Fradique Coutinho\, 915 - Pinheiros\, São Paulo\, São Paulo\, 05416-011\, Brasil
GEO:-23.5592934;-46.6892019
X-APPLE-STRUCTURED-LOCATION;VALUE=URI;X-ADDRESS=Rua Fradique Coutinho 915 - Pinheiros São Paulo São Paulo 05416-011 Brasil;X-APPLE-RADIUS=500;X-TITLE=Rua Fradique Coutinho\, 915 - Pinheiros:geo:-46.6892019,-23.5592934
END:VEVENT
END:VCALENDAR