BEGIN:VCALENDAR
VERSION:2.0
PRODID:-//VILA - Blog - ECPv4.5.12.2//NONSGML v1.0//EN
CALSCALE:GREGORIAN
METHOD:PUBLISH
X-WR-CALNAME:VILA - Blog
X-ORIGINAL-URL:https://blog.livrariadavila.com.br
X-WR-CALDESC:Events for VILA - Blog
BEGIN:VEVENT
DTSTART;TZID=America/Sao_Paulo:20221031T190000
DTEND;TZID=America/Sao_Paulo:20221031T210000
DTSTAMP:20260420T154214
CREATED:20221018T201608Z
LAST-MODIFIED:20221018T201608Z
UID:115674-1667242800-1667250000@blog.livrariadavila.com.br
SUMMARY:CONTROLE SUA DOR E COMANDE SUA VIDA: APRENDA COMO ENFRENTAR A DOR PERSISTENTE E CONQUISTE UMA VIDA MAIS PRAZEROSA EM APENAS 6 SEMANAS - ROGÉRIO LIPORACI - ED. GENTE
DESCRIPTION: \n  \n\n\n\n\nA DOR QUE AQUI TRATAMOS É A QUE SURGE AO MOVIMENTAR E AO SUSTENTAR O CORPO\, POR VEZES TÃO INCAPACITANTE E QUE NOS DEIXA PERDIDOS SEM SABER O QUE FAZER. “DÓI\, ENTÃO PARO DE MEXER… DEPOIS PRECISO VOLTAR AOS MEUS AFAZERES E PARECE QUE DÓI AINDA MAIS”. NÃO É ASSIM? MAS\, PERCEBA\, É MUITO IMPORTANTE QUE\, INDEPENDENTEMENTE DE OUTRAS TERAPIAS QUE ESCOLHA REALIZAR\, ELAS ESTEJAM ATRELADAS AO MOVIMENTO E USO DO CORPO E À RETOMADA DAS INTERAÇÕES DO SEU FÍSICO COM O MUNDO. AFINAL\, É PARA ISSO QUE VOCÊ ESTÁ BUSCANDO A SOLUÇÃO\, NÃO É MESMO? PARA VOLTAR A APROVEITAR A VIDA! A ciência nos prova que sentir dor é diferente de ter uma lesão\, e esse achado científico nos abre a possibilidade de primeiro tentar a solução por nós mesmos! Aqui\, Rogério Liporaci lhe fornece as ferramentas para que você entenda quando pode tentar facilitar a resolução natural da sua dor com propostas simples de automanuseio do corpo para buscar o alívio antes de procurar por um profissional de saúde caso a dor ainda insista em incomodar. E o objetivo principal dessa atenção física a ser dada a você por você mesmo é prevenir que algo simples se torne um martírio sem sequer ter uma causa importante para isso. Em Controle sua dor e comande sua vida\, você vai entender o que se passa com o seu corpo e\, assim\, compreender quando a dor está dando um sinal de alerta real! Nesta obra\, você vai aprender como: Entender o sinal doloroso e controlar o alerta de dor; Organizar e executar minimamente tarefas que são de sua rotina diária para conter a perda de sua mobilidade na área que dói; Realizar exercícios físicos para reverter movimentos já debilitados pela dor e pelo medo de ser algo grave; Acompanhar os resultados para verificar se foi possível minimizar ou reverter o quadro e\, caso não tenha sido\, a partir desse ponto procurar uma opinião especializada. Tudo isso com uma programação completa de exercícios em 6 semanas!\n\n\n\n\n
URL:https://blog.livrariadavila.com.br/event/controle-sua-dor-e-comande-sua-vida-aprenda-como-enfrentar-a-dor-persistente-e-conquiste-uma-vida-mais-prazerosa-em-apenas-6-semanas-rogerio-liporaci-ed-gente/
LOCATION:Rua Fradique Coutinho\, 915 - Pinheiros\, São Paulo\, São Paulo\, 05416-011\, Brasil
GEO:-23.5592934;-46.6892019
X-APPLE-STRUCTURED-LOCATION;VALUE=URI;X-ADDRESS=Rua Fradique Coutinho 915 - Pinheiros São Paulo São Paulo 05416-011 Brasil;X-APPLE-RADIUS=500;X-TITLE=Rua Fradique Coutinho\, 915 - Pinheiros:geo:-46.6892019,-23.5592934
END:VEVENT
END:VCALENDAR