BEGIN:VCALENDAR
VERSION:2.0
PRODID:-//VILA - Blog - ECPv4.5.12.2//NONSGML v1.0//EN
CALSCALE:GREGORIAN
METHOD:PUBLISH
X-WR-CALNAME:VILA - Blog
X-ORIGINAL-URL:https://blog.livrariadavila.com.br
X-WR-CALDESC:Events for VILA - Blog
BEGIN:VEVENT
DTSTART;TZID=America/Sao_Paulo:20181211T183000
DTEND;TZID=America/Sao_Paulo:20181211T213000
DTSTAMP:20260420T152040
CREATED:20181128T143315Z
LAST-MODIFIED:20181128T143315Z
UID:23715-1544553000-1544563800@blog.livrariadavila.com.br
SUMMARY:Correlações: Religião\, Liturgia e Arte
DESCRIPTION:Esse livro faz uma análise do pensamento ocidental a partir das relações ambivalentes entre a religião e a liturgia cristã com o mundo da arte. Essas relações têm um histórico complexo\, de amplas possibilidades\, mas também de medos\, preconceitos e falta de confiança que acabam por eliminar as possiblidades e criar um arcabouço de mútua negação\, como se um mundo pudesse acabar com o outro. Algo real no mundo em que vivemos. Tentando desfazer essas relações de negação\, o autor estabelece pontos de contato a partir de movimentos de transgressão e correlação e assim criar pontes entre esses mundos de modo que tanto a arte quanto a religião e sua liturgia se ampliem para além de suas fronteiras. Por fim\, esse livro fala de uma estética de vida mais plena\, mais conectada\, e por fim\, mais livre. \nDe Cláudio Carvalhaes \nEd. Fonte Editorial \n
URL:https://blog.livrariadavila.com.br/event/correlacoes-religiao-liturgia-e-arte/
LOCATION:Av. Juscelino Kubitschek\, 2041 - Itaim Bibi\, São Paulo\, São Paulo\, 04543-011\, Brasil
GEO:-23.5914219;-46.6898224
X-APPLE-STRUCTURED-LOCATION;VALUE=URI;X-ADDRESS=Av. Juscelino Kubitschek 2041 - Itaim Bibi São Paulo São Paulo 04543-011 Brasil;X-APPLE-RADIUS=500;X-TITLE=Av. Juscelino Kubitschek\, 2041 - Itaim Bibi:geo:-46.6898224,-23.5914219
CATEGORIES:LANÇAMENTOS,SESSÕES DE AUTÓGRAFOS
END:VEVENT
END:VCALENDAR