BEGIN:VCALENDAR
VERSION:2.0
PRODID:-//VILA - Blog - ECPv4.5.12.2//NONSGML v1.0//EN
CALSCALE:GREGORIAN
METHOD:PUBLISH
X-WR-CALNAME:VILA - Blog
X-ORIGINAL-URL:https://blog.livrariadavila.com.br
X-WR-CALDESC:Events for VILA - Blog
BEGIN:VEVENT
DTSTART;TZID=America/Sao_Paulo:20251023T180000
DTEND;TZID=America/Sao_Paulo:20251023T210000
DTSTAMP:20260425T215304
CREATED:20250926T214041Z
LAST-MODIFIED:20250926T214041Z
UID:130241-1761242400-1761253200@blog.livrariadavila.com.br
SUMMARY:COZINHANDO PARA O SEU BEBÊ – PATRICIA SAMPAIO BETTENCOURT – ED. MATRIX
DESCRIPTION: \n\n\n\n\nA introdução alimentar é um dos momentos mais especiais da jornada da maternidade. Mais do que apenas oferecer comida\, é uma oportunidade de criar laços\, despertar sabores e proporcionar uma base nutricional saudável para o futuro do seu bebê. Em Cozinhando para o seu bebê\, Patrícia Sampaio Bettencourt combina sua experiência como chef e mãe para guiar você nesse processo com leveza\, carinho e muito sabor. Aqui você encontrará receitas nutritivas e saborosas\, cuidadosamente elaboradas para cada fase da introdução alimentar. Dicas práticas para organizar a rotina alimentar\, respeitando o ritmo e as preferências do bebê. Orientações sobre ingredientes\, utensílios essenciais e técnicas culinárias para garantir refeições equilibradas e deliciosas. Receitas especiais para toda a família\, para que o momento das refeições seja compartilhado com afeto. Com um toque de amor e criatividade\, cada receita deste livro foi testada e aprovada pela pequena Maria. E agora pode fazer parte da sua história também.\n\n\n\n\n
URL:https://blog.livrariadavila.com.br/event/cozinhando-para-o-seu-bebe-patricia-sampaio-bettencourt-ed-matrix/
LOCATION:Av. Higienópolis\, 618 – Higienópolis\, São Paulo\, SP\, 01238-000\, Brasil
GEO:-23.542049;-46.6577148
X-APPLE-STRUCTURED-LOCATION;VALUE=URI;X-ADDRESS=Av. Higienópolis 618 – Higienópolis São Paulo SP 01238-000 Brasil;X-APPLE-RADIUS=500;X-TITLE=Av. Higienópolis\, 618 – Higienópolis:geo:-46.6577148,-23.542049
CATEGORIES:LANÇAMENTOS,SESSÕES DE AUTÓGRAFOS
END:VEVENT
END:VCALENDAR