BEGIN:VCALENDAR
VERSION:2.0
PRODID:-//VILA - Blog - ECPv4.5.12.2//NONSGML v1.0//EN
CALSCALE:GREGORIAN
METHOD:PUBLISH
X-WR-CALNAME:VILA - Blog
X-ORIGINAL-URL:https://blog.livrariadavila.com.br
X-WR-CALDESC:Events for VILA - Blog
BEGIN:VEVENT
DTSTART;TZID=America/Sao_Paulo:20260516T150000
DTEND;TZID=America/Sao_Paulo:20260516T180000
DTSTAMP:20260425T152425
CREATED:20260424T210144Z
LAST-MODIFIED:20260424T210144Z
UID:133593-1778943600-1778954400@blog.livrariadavila.com.br
SUMMARY:CRESCENDO JUNTOS: APRENDENDO SEMPRE - MARIANNE MARTINS & COLABORADORES - ED. DAPAUTA
DESCRIPTION: \nCrescendo juntos\, aprendendo sempre\, você encontrará reflexões sensíveis e orientações práticas sobre o desenvolvimento infantil\, o vínculo entre adultos e crianças e os desafios reais do dia a dia de quem educa\, cuida e acompanha o crescer. \nOs capítulos deste livro convidam o leitor a compreender melhor as emoções da infância\, o papel do adulto como referência segura e a importância das relações na construção de um desenvolvimento saudável. É uma leitura que acolhe\, orienta e lembra que não existem cuidadores perfeitos — existem adultos disponíveis para aprender junto. \nUm livro para quem acredita que crescer é um processo compartilhado\, e que aprender acontece em cada encontro. \n
URL:https://blog.livrariadavila.com.br/event/crescendo-juntos-aprendendo-sempre-marianne-martins-colaboradores-ed-dapauta/
LOCATION:Rua Pamplona\, 1704\, São Paulo\, São Paulo\, 01405-000\, Brasil
GEO:-23.5702482;-46.6612794
X-APPLE-STRUCTURED-LOCATION;VALUE=URI;X-ADDRESS=Rua Pamplona 1704 São Paulo São Paulo 01405-000 Brasil;X-APPLE-RADIUS=500;X-TITLE=Rua Pamplona\, 1704:geo:-46.6612794,-23.5702482
CATEGORIES:LANÇAMENTOS,SESSÕES DE AUTÓGRAFOS
END:VEVENT
END:VCALENDAR