BEGIN:VCALENDAR
VERSION:2.0
PRODID:-//VILA - Blog - ECPv4.5.12.2//NONSGML v1.0//EN
CALSCALE:GREGORIAN
METHOD:PUBLISH
X-WR-CALNAME:VILA - Blog
X-ORIGINAL-URL:https://blog.livrariadavila.com.br
X-WR-CALDESC:Events for VILA - Blog
BEGIN:VEVENT
DTSTART;TZID=America/Sao_Paulo:20200126T113000
DTEND;TZID=America/Sao_Paulo:20200126T143000
DTSTAMP:20260420T193928
CREATED:20191218T164011Z
LAST-MODIFIED:20191218T164011Z
UID:112160-1580038200-1580049000@blog.livrariadavila.com.br
SUMMARY:Criação Literária: Literatura infantil
DESCRIPTION:Ethos \nCom Cássia Janeiro \nO mercado para livros infantis é\, sem dúvida\, um dos mais promissores e rentáveis do mundo\, não só pela necessidade fundamental destes produtos para a educação dos filhos\, como também para o desenvolvimento cognitivo e emocional das crianças. Este curso foi desenhado para aqueles que têm vontade de serem autores de obras infantis\, para serem vendidas em livrarias e adotadas em escolas públicas e particulares. Um curso teórico e prático\, para todos os públicos. \nValor: a partir de 26/12 parcelado em 2x R$ 170\,00 ou à vista com 5% de desconto. \nDesconto não cumulativo. \nInformações e inscrições: www.ethoscomunicacaoearte.com.br e contato@ethoscomunicacaoearte.com.br \n
URL:https://blog.livrariadavila.com.br/event/criacao-literaria-literatura-infantil-2/
CATEGORIES:CURSOS
END:VEVENT
END:VCALENDAR