BEGIN:VCALENDAR
VERSION:2.0
PRODID:-//VILA - Blog - ECPv4.5.12.2//NONSGML v1.0//EN
CALSCALE:GREGORIAN
METHOD:PUBLISH
X-WR-CALNAME:VILA - Blog
X-ORIGINAL-URL:https://blog.livrariadavila.com.br
X-WR-CALDESC:Events for VILA - Blog
BEGIN:VEVENT
DTSTART;TZID=America/Sao_Paulo:20191016T183000
DTEND;TZID=America/Sao_Paulo:20191016T213000
DTSTAMP:20260421T095950
CREATED:20191003T154108Z
LAST-MODIFIED:20191003T154108Z
UID:99610-1571250600-1571261400@blog.livrariadavila.com.br
SUMMARY:Crianças desafiadoras
DESCRIPTION: \nEntenda como contribuir de maneira positiva com crianças que têm Transtorno Opositivo-Desafiador e quais são as melhores estratégias para acabar com a guerra dentro de casa O comportamento das crianças pode dizer muito sobre elas e\, se o seu filho é desobediente\, sempre se envolve em confusões\, é agressivo\, violento e possui um jeito ríspido de lidar com as pessoas\, demonstrando dificuldade na interação social\, é possível que ele tenha o comumente conhecido Transtorno Opositivo-Desafiador (TOD). Apenas pais e cuidadores sabem da preocupação de não estar criando um filho da maneira correta e\, para que você esclareça todas as suas dúvidas e\, em caso positivo\, saiba lidar com esse transtorno\, Luciana e o Dr. Clay Brites trazem neste livro tudo sobre um dos transtornos mais comentados da atualidade e como você poderá ajudar o seu filho a ter uma vida mais tranquila e feliz. \n  \nDe Luciana Brites e Clay Brites \nEd. Gente \n
URL:https://blog.livrariadavila.com.br/event/criancas-desafiadoras/
LOCATION:Avenida Ayrton Senna da Silva\, 400 – 2º piso\, Londrina\, Paraná\, 86050-460\, Brasil
CATEGORIES:LANÇAMENTOS,SESSÕES DE AUTÓGRAFOS
END:VEVENT
END:VCALENDAR