BEGIN:VCALENDAR
VERSION:2.0
PRODID:-//VILA - Blog - ECPv4.5.12.2//NONSGML v1.0//EN
CALSCALE:GREGORIAN
METHOD:PUBLISH
X-WR-CALNAME:VILA - Blog
X-ORIGINAL-URL:https://blog.livrariadavila.com.br
X-WR-CALDESC:Events for VILA - Blog
BEGIN:VEVENT
DTSTART;TZID=America/Sao_Paulo:20221119T103000
DTEND;TZID=America/Sao_Paulo:20221119T140000
DTSTAMP:20260420T235029
CREATED:20221019T202348Z
LAST-MODIFIED:20221019T202348Z
UID:115703-1668853800-1668866400@blog.livrariadavila.com.br
SUMMARY:CRIANÇAS E ADOLESCENTES NO MUNDO DIGITAL: ORIENTAÇÕES ESSENCIAIS PARA O USO SEGURO E CONSCIENTE DAS NOVAS TECNOLOGIAS - ALESSANDRA BORELLI - ED. AUTÊNTICA
DESCRIPTION: \n  \nDados da edição mais recente da pesquisa TIC Kids Online Brasil\, realizada pelo Comitê Gestor da Internet no Brasil (CGI.br)\, indicam que 93% dos brasileiros com idades entre 9 e 17 anos são usuários de internet. Essa é uma realidade sem volta. E\, convenhamos\, se e quando utilizada com consciência e responsabilidade\, a internet e todos os demais avanços tecnológicos representam mecanismos espetaculares e incomparáveis\, tanto para a comunicação como para acesso à informação\, entretenimento e até educação.Por outro lado\, o acesso a conteúdos inadequados à capacidade de compreensão de crianças e adolescentes é facilitado\, assim como a sua vulnerabilidade à pornografia e a ações de aliciadores acaba sendo potencializada. Ofendem e são ofendidos\, expõem a própria privacidade e da família\, e\, quando não são vítimas\, cometem\, muitas vezes sem saber\, inúmeras infrações. Portanto\, conhecer os perigos a que estão sujeitos também no ambiente digital é fundamental para se criar mecanismos e estratégias a fim ajudá-los a desfrutar das novas tecnologias de forma segura e consciente.Este livro\, de forma realista\, prática e acolhedora tem o objetivo de dar às famílias e às escolas as respostas para muitos de seus questionamentos\, entre eles\, como bem direcionar crianças e adolescentes para o uso seguro e saudável das novas tecnologias. Não se pretende\, absolutamente\, reprimir\, tampouco criticar as inovações tecnológicas\, mas sim fazer com que tomem conhecimento da seriedade que reveste o universo digital\, de modo que possam se resguardar de suas armadilhas e aprender a tirar dele o melhor proveito possível.“Se o leitor estiver procurando uma obra que\, efetivamente\, possa trazer uma reflexão significativa a respeito de como devemos nos posicionar frente ao novo milênio quando o assunto for as novas tecnologias\, seguramente\, este livro é o mais indicado.”Cristiano Nabuco de Abreu\, Psicólogo e coordenador do Núcleo de Dependências Tecnológicas do PRO-AMITI do IPq-HC-FMUSP “Alessandra Borelli muito bem sabe como conversar com pais\, educadores e profissionais das mais diversas áreas sobre como lidar com os obstáculos e os limites das telas\, da mesma forma que precisam ser também bem-informados sobre como proteger a si mesmos e suas famílias. \n
URL:https://blog.livrariadavila.com.br/event/criancas-e-adolescentes-no-mundo-digital-orientacoes-essenciais-para-o-uso-seguro-e-consciente-das-novas-tecnologias-alessandra-borelli-ed-autentica/
LOCATION:Rua Fradique Coutinho\, 915 - Pinheiros\, São Paulo\, São Paulo\, 05416-011\, Brasil
GEO:-23.5592934;-46.6892019
X-APPLE-STRUCTURED-LOCATION;VALUE=URI;X-ADDRESS=Rua Fradique Coutinho 915 - Pinheiros São Paulo São Paulo 05416-011 Brasil;X-APPLE-RADIUS=500;X-TITLE=Rua Fradique Coutinho\, 915 - Pinheiros:geo:-46.6892019,-23.5592934
END:VEVENT
END:VCALENDAR