BEGIN:VCALENDAR
VERSION:2.0
PRODID:-//VILA - Blog - ECPv4.5.12.2//NONSGML v1.0//EN
CALSCALE:GREGORIAN
METHOD:PUBLISH
X-WR-CALNAME:VILA - Blog
X-ORIGINAL-URL:https://blog.livrariadavila.com.br
X-WR-CALDESC:Events for VILA - Blog
BEGIN:VEVENT
DTSTART;TZID=America/Sao_Paulo:20190408T183000
DTEND;TZID=America/Sao_Paulo:20190408T213000
DTSTAMP:20260422T092218
CREATED:20190327T162844Z
LAST-MODIFIED:20190327T162844Z
UID:95826-1554748200-1554759000@blog.livrariadavila.com.br
SUMMARY:Crime.Gov: Quando corrupção e governo se misturam
DESCRIPTION: No aniversário de cinco anos da Operação Lava Jato\, Jorge Pontes e Márcio Anselmo\, delegados que atuaram em diferentes momentos da Polícia Federal\, narram\, a partir de suas experiências pessoais e profissionais\, como a corrupção se infiltrou nas instituições brasileiras\, tornando-se sistêmica.\nA Lava Jato impactou o Brasil\, abalando tanto a classe política quanto a empresarial. Ela levou à prisão importantes figuras públicas e revelou\, de forma inédita\, a abrangência da ilegalidade no sistema. Pela primeira vez\, a população brasileira tomou conhecimento de como acontecem as negociatas por baixo dos panos nas altas-rodas do governo.\nEm Crime.gov \, os autores descrevem uma nova modalidade de crime\, que há décadas está entranhada nos três poderes mas que só recentemente passou a ser enxergada com clareza: o crime institucionalizado. Diferente de tudo o que se conhecia até então\, é uma dinâmica muito mais complexa\, já que as esferas do governo se articulam para preservar a manutenção desses esquemas.\nRevelador e original\, Crime.gov propõe um novo olhar sobre as relações de poder na política nacional. \nDe Jorge Pontes e Márcio Anselmo \nEd. Objetiva \n
URL:https://blog.livrariadavila.com.br/event/crime-gov-quando-corrupcao-e-governo-se-misturam/
LOCATION:Av. Juscelino Kubitschek\, 2041 - Itaim Bibi\, São Paulo\, São Paulo\, 04543-011\, Brasil
GEO:-23.5914219;-46.6898224
X-APPLE-STRUCTURED-LOCATION;VALUE=URI;X-ADDRESS=Av. Juscelino Kubitschek 2041 - Itaim Bibi São Paulo São Paulo 04543-011 Brasil;X-APPLE-RADIUS=500;X-TITLE=Av. Juscelino Kubitschek\, 2041 - Itaim Bibi:geo:-46.6898224,-23.5914219
CATEGORIES:LANÇAMENTOS,SESSÕES DE AUTÓGRAFOS
END:VEVENT
END:VCALENDAR