BEGIN:VCALENDAR
VERSION:2.0
PRODID:-//VILA - Blog - ECPv4.5.12.2//NONSGML v1.0//EN
CALSCALE:GREGORIAN
METHOD:PUBLISH
X-WR-CALNAME:VILA - Blog
X-ORIGINAL-URL:https://blog.livrariadavila.com.br
X-WR-CALDESC:Events for VILA - Blog
BEGIN:VEVENT
DTSTART;TZID=America/Sao_Paulo:20221116T190000
DTEND;TZID=America/Sao_Paulo:20221116T213000
DTSTAMP:20260421T220622
CREATED:20221021T154657Z
LAST-MODIFIED:20221021T154657Z
UID:115750-1668625200-1668634200@blog.livrariadavila.com.br
SUMMARY:CRIPTOATIVOS\, TOKENIZAÇÃO\, BLOCKCHAIN E METAVERSO - DANIEL DE PAIVA GOMES\, EDUARDO DE PAIVA GOMES E PAULO CESAR CONRADO - ED. RT
DESCRIPTION: \n  \nO jogo de cartas sobre as situações mais comuns da alimentação e nutrição na gestação até a adolescência foi elaborado para ampliar o conhecimento sobre nutrição para a mãe e seu filho. \nAs cartas contêm material didático para ser utilizado em atendimentos em grupo\, dinâmicas com famílias\, nas escolas e em programas de saúde pública que buscam difundir informações sobre saúde. \nO material foi criado e elaborado por três nutricionistas especializadas no público materno-infantil\, que uniram os conceitos da nutrição baseada em evidências com a experiência da prática clínica de mais de duas décadas. \n
URL:https://blog.livrariadavila.com.br/event/criptoativos-tokenizacao-blockchain-e-metaverso-daniel-de-paiva-gomes-eduardo-de-paiva-gomes-e-paulo-cesar-conrado-ed-rt/
LOCATION:Av. Higienópolis\, 618 – Higienópolis\, São Paulo\, SP\, 01238-000\, Brasil
GEO:-23.542049;-46.6577148
X-APPLE-STRUCTURED-LOCATION;VALUE=URI;X-ADDRESS=Av. Higienópolis 618 – Higienópolis São Paulo SP 01238-000 Brasil;X-APPLE-RADIUS=500;X-TITLE=Av. Higienópolis\, 618 – Higienópolis:geo:-46.6577148,-23.542049
END:VEVENT
END:VCALENDAR