BEGIN:VCALENDAR
VERSION:2.0
PRODID:-//VILA - Blog - ECPv4.5.12.2//NONSGML v1.0//EN
CALSCALE:GREGORIAN
METHOD:PUBLISH
X-WR-CALNAME:VILA - Blog
X-ORIGINAL-URL:https://blog.livrariadavila.com.br
X-WR-CALDESC:Events for VILA - Blog
BEGIN:VEVENT
DTSTART;TZID=America/Sao_Paulo:20221123T180000
DTEND;TZID=America/Sao_Paulo:20221123T210000
DTSTAMP:20260422T174511
CREATED:20221110T210417Z
LAST-MODIFIED:20221110T210737Z
UID:115995-1669226400-1669237200@blog.livrariadavila.com.br
SUMMARY:CRIPTOMOEDAS EM TWEETS - HENRY COL\, SÉRGIO ALL E TALES PUPO AMORIM - ED. BRASPORT
DESCRIPTION: \n  \nLivro Criptomoedas em tweets: aprenda sobre o universo das criptomoedas de forma simples\, rápida e didática \nEste livro apresenta na forma de tweets (frases curtas)\, os principais conceitos do universo das criptomoedas. \nEscolhemos este método por ser uma maneira de compreender sem muito esforço temas como: \nBlockchain\nEthereum\nDeFi\nNFT\nMetaverso\nE muito mais \nEsperamos mudar sua maneira de ver\, pensar e agir sobre criptomoedas. \nAinda no final do livro você encontra um quis com 88 perguntas para descobrir sua proficiência em criptomoedas. \n
URL:https://blog.livrariadavila.com.br/event/criptomoedas-em-tweets-henry-col-sergio-all-e-tales-pupo-amorim-ed-brasport/
LOCATION:Av. Rebouças\, 3970 Piso 1 - Pinheiros\, São Paulo\, São Paulo\, 05402-600
END:VEVENT
END:VCALENDAR