BEGIN:VCALENDAR
VERSION:2.0
PRODID:-//VILA - Blog - ECPv4.5.12.2//NONSGML v1.0//EN
CALSCALE:GREGORIAN
METHOD:PUBLISH
X-WR-CALNAME:VILA - Blog
X-ORIGINAL-URL:https://blog.livrariadavila.com.br
X-WR-CALDESC:Events for VILA - Blog
BEGIN:VEVENT
DTSTART;TZID=America/Sao_Paulo:20190321T183000
DTEND;TZID=America/Sao_Paulo:20190321T213000
DTSTAMP:20260420T120756
CREATED:20190222T180605Z
LAST-MODIFIED:20190222T180605Z
UID:93599-1553193000-1553203800@blog.livrariadavila.com.br
SUMMARY:Cuidados paliativos – Diretrizes para melhores práticas
DESCRIPTION: O conhecimento do ser humano evolui continuamente em todas as áreas. Na medicina\, porém\, o avanço de uma ampla gama de tecnologias voltadas para o prolongamento da vida – desejo primitivo dos seres humanos – deu lugar à tecnocracia. Esse movimento iludiu leigos (e muitos profissionais) e criou mitos\, sobretudo o de que a morte poderia ser vencida. O problema é que essa obstinação terapêutica é hoje\, muitas vezes\, fonte de sofrimento – e paradoxalmente pode resultar no abreviamento do tempo de vida.\nAssim\, é fundamental resgatar a qualidade do cuidar\, não só do ponto de vista biológico\, mas também mental e espiritual. \nDe Ana Lucia Coradazzi\, Marcella Tardeli E. A. Santana e Ricardo Caponero \nEd. Mg Editores \n
URL:https://blog.livrariadavila.com.br/event/cuidados-paliativos-diretrizes-para-melhores-praticas/
CATEGORIES:LANÇAMENTOS,SESSÕES DE AUTÓGRAFOS
END:VEVENT
END:VCALENDAR