BEGIN:VCALENDAR
VERSION:2.0
PRODID:-//VILA - Blog - ECPv4.5.12.2//NONSGML v1.0//EN
CALSCALE:GREGORIAN
METHOD:PUBLISH
X-WR-CALNAME:VILA - Blog
X-ORIGINAL-URL:https://blog.livrariadavila.com.br
X-WR-CALDESC:Events for VILA - Blog
BEGIN:VEVENT
DTSTART;TZID=America/Sao_Paulo:20260515T180000
DTEND;TZID=America/Sao_Paulo:20260515T210000
DTSTAMP:20260425T152250
CREATED:20260424T175216Z
LAST-MODIFIED:20260424T175216Z
UID:133584-1778868000-1778878800@blog.livrariadavila.com.br
SUMMARY:DANO MORTE - VITOR OTTOBONI PAVAN - ED. FOCO
DESCRIPTION: \n“(…) Com efeito\, apesar da expansão dos danos extrapatrimoniais nas últimas décadas – dano moral\, dano existencial\, perda do tempo útil\, entre outros –\, o dano-morte\, enquanto dano autônomo sofrido pela vítima direta da morte injusta\, permaneceu à margem da reflexão sistemática. O ordenamento reagiu à morte quase exclusivamente por meio dos danos reflexos: o luto dos familiares\, os alimentos aos dependentes\, as despesas funerárias. A vítima direta\, paradoxalmente\, permaneceu invisível. \n  \nÉ contra esse paradoxo que a obra se insurge. O autor demonstra\, com precisão conceitual\, que a ausência de tutela do dano-morte não decorre de uma impossibilidade lógica ou normativa\, mas de um resíduo patrimonialista ainda presente na leitura da responsabilidade civil. Ao enfrentar o dogma segundo o qual a extinção da personalidade com a morte impediria a configuração de um dano indenizável\, Vitor Pavan propõe uma reconstrução sofisticada do conceito de dano extrapatrimonial\, situada no que denomina de pós-constitucionalização do direito civil: um estágio reflexivo que\, sem abandonar as conquistas da constitucionalização\, exige maior coerência sistemática e atenção aos riscos da discricionariedade judicial”. \n
URL:https://blog.livrariadavila.com.br/event/dano-morte-vitor-ottoboni-pavan-ed-foco/
LOCATION:Avenida do Batel\, nº 1868 – Loja 314 piso L3\, Curitiba\, Paraná\, 80420-090\, Brasil
GEO:-25.443012;-49.2899507
X-APPLE-STRUCTURED-LOCATION;VALUE=URI;X-ADDRESS=Avenida do Batel nº 1868 – Loja 314 piso L3 Curitiba Paraná 80420-090 Brasil;X-APPLE-RADIUS=500;X-TITLE=Avenida do Batel\, nº 1868 – Loja 314 piso L3:geo:-49.2899507,-25.443012
CATEGORIES:LANÇAMENTOS,SESSÕES DE AUTÓGRAFOS
END:VEVENT
END:VCALENDAR