BEGIN:VCALENDAR
VERSION:2.0
PRODID:-//VILA - Blog - ECPv4.5.12.2//NONSGML v1.0//EN
CALSCALE:GREGORIAN
METHOD:PUBLISH
X-WR-CALNAME:VILA - Blog
X-ORIGINAL-URL:https://blog.livrariadavila.com.br
X-WR-CALDESC:Events for VILA - Blog
BEGIN:VEVENT
DTSTART;TZID=America/Sao_Paulo:20181030T183000
DTEND;TZID=America/Sao_Paulo:20181030T213000
DTSTAMP:20260421T182045
CREATED:20181004T164834Z
LAST-MODIFIED:20181004T164834Z
UID:22745-1540924200-1540935000@blog.livrariadavila.com.br
SUMMARY:De belíndia ao real
DESCRIPTION: \nO título De Belíndia ao Real faz referência ao país fictício Belíndia\, que o economista criou no artigo de 1974 “O economista e o rei da Belíndia”. Belíndia seria um país ambíguo e contraditório\, que ilustra o que seria a distribuição de renda no Brasil: um disparate entre as condições luxuosas da Bélgica e a miséria da Índia. O Plano Real foi o responsável por fazer o Brasil retornar à sua natureza inicial\, deixando de lado sua porção Belíndia. \nDe José Carlos Carvalho\, Luiz Chrysostomo\, Pedro S. Malan e Regis Boneli (orgs.) \nEd. José Olympio \n
URL:https://blog.livrariadavila.com.br/event/de-belindia-ao-real/
LOCATION:Av. Juscelino Kubitschek\, 2041 - Itaim Bibi\, São Paulo\, São Paulo\, 04543-011\, Brasil
GEO:-23.5914219;-46.6898224
X-APPLE-STRUCTURED-LOCATION;VALUE=URI;X-ADDRESS=Av. Juscelino Kubitschek 2041 - Itaim Bibi São Paulo São Paulo 04543-011 Brasil;X-APPLE-RADIUS=500;X-TITLE=Av. Juscelino Kubitschek\, 2041 - Itaim Bibi:geo:-46.6898224,-23.5914219
CATEGORIES:LANÇAMENTOS,SESSÕES DE AUTÓGRAFOS
END:VEVENT
END:VCALENDAR