BEGIN:VCALENDAR
VERSION:2.0
PRODID:-//VILA - Blog - ECPv4.5.12.2//NONSGML v1.0//EN
CALSCALE:GREGORIAN
METHOD:PUBLISH
X-WR-CALNAME:VILA - Blog
X-ORIGINAL-URL:https://blog.livrariadavila.com.br
X-WR-CALDESC:Events for VILA - Blog
BEGIN:VEVENT
DTSTART;TZID=America/Sao_Paulo:20191017T190000
DTEND;TZID=America/Sao_Paulo:20191017T213000
DTSTAMP:20260421T230357
CREATED:20191002T190811Z
LAST-MODIFIED:20191010T150616Z
UID:99572-1571338800-1571347800@blog.livrariadavila.com.br
SUMMARY:De quem é o comando?
DESCRIPTION:“E eu percebia que\, naquela torrente confusa de queixas e lamentos de um preso desesperado\, residia a chave para interpretação de um enigma: de quem é o comando da prisão?” Questão sem dúvida direta. Em boa medida\, simples; no fundo\, óbvia: ora\, não são justamente essas as perguntas que mais desconcertam? Entenda o alcance da intuição que estrutura este inquietante livro: a realidade dantesca do sistema penitenciário brasileiro é conhecida de todos: presídios superlotados\, condições de existência insalubres e desumanas\, ausência completa de atendimento jurídico\, a tortura como forma cotidiana de punição – e a lista somente se torna sempre mais brutal. \n  \nDe Eduardo Matos \nEd. Record \n  \nLançamento e bate-papo \n
URL:https://blog.livrariadavila.com.br/event/de-quem-e-o-comando/
CATEGORIES:LANÇAMENTOS,SESSÕES DE AUTÓGRAFOS
END:VEVENT
END:VCALENDAR