BEGIN:VCALENDAR
VERSION:2.0
PRODID:-//VILA - Blog - ECPv4.5.12.2//NONSGML v1.0//EN
CALSCALE:GREGORIAN
METHOD:PUBLISH
X-WR-CALNAME:VILA - Blog
X-ORIGINAL-URL:https://blog.livrariadavila.com.br
X-WR-CALDESC:Events for VILA - Blog
BEGIN:VEVENT
DTSTART;TZID=America/Sao_Paulo:20181103T160000
DTEND;TZID=America/Sao_Paulo:20181103T180000
DTSTAMP:20260420T083543
CREATED:20181015T163940Z
LAST-MODIFIED:20181015T163940Z
UID:22969-1541260800-1541268000@blog.livrariadavila.com.br
SUMMARY:Debate Cinema e Literatura
DESCRIPTION: O Cego Estrelinho\, de Mia Couto\, do livro “Estórias Abensonhadas” \nNo conto “O cego Estrelinho”\, como em boa parte dos textos de Mia Couto\, é a construção da linguagem\, refletida principalmente em neo-logismos sucessivos e inusitados\, o primeiro elemento a chamar a atenção do leitor. Num processo que lembra a estilística de um Guimarães Rosa\, o narrador nos apresenta a situação inicial da história a ser contada: um jovem cego e seu inseparável companheiro que o guiara por toda a vida. \n  \n  \n  \n  \nPerfume de Mulher\, filme de Martin Brest \nAl Pacino ganhou seu primeiro Oscar de Melhor Ator por sua brilhante atuação como um cego arrogante\, oficial do Exército e aposentado que contrata um jovem (Chris O’Donnell) para acompanhá-lo em uma viagem. É uma emocionante e intensa história de opostos que se atraem\, quando embarcam num inesquecível fim de semana que vai mudar suas vidas para sempre. \n  \n  \n  \nEvento gratuito \n
URL:https://blog.livrariadavila.com.br/event/debate-cinema-e-literatura-14/
LOCATION:Av. Moema\, 493\, São Paulo\, São Paulo\, 04077-022\, Brasil
GEO:-23.6060908;-46.6565273
X-APPLE-STRUCTURED-LOCATION;VALUE=URI;X-ADDRESS=Av. Moema 493 São Paulo São Paulo 04077-022 Brasil;X-APPLE-RADIUS=500;X-TITLE=Av. Moema\, 493:geo:-46.6565273,-23.6060908
CATEGORIES:CLUBES DE LEITURA
END:VEVENT
END:VCALENDAR