BEGIN:VCALENDAR
VERSION:2.0
PRODID:-//VILA - Blog - ECPv4.5.12.2//NONSGML v1.0//EN
CALSCALE:GREGORIAN
METHOD:PUBLISH
X-WR-CALNAME:VILA - Blog
X-ORIGINAL-URL:https://blog.livrariadavila.com.br
X-WR-CALDESC:Events for VILA - Blog
BEGIN:VEVENT
DTSTART;TZID=America/Sao_Paulo:20250406T153000
DTEND;TZID=America/Sao_Paulo:20250406T183000
DTSTAMP:20260423T212242
CREATED:20250305T153231Z
LAST-MODIFIED:20250305T153231Z
UID:126399-1743953400-1743964200@blog.livrariadavila.com.br
SUMMARY:DEMOCRATIZAÇÃO DO COLO: EDUCAÇÃO ANTIRRACISTA PARA E COM BEBÊS E CRIANÇAS PEQUENAS - JUSSARA SANTOS - ED. PAPIRUS
DESCRIPTION: \nEsse livro é fruto de escuta realizada durante os 20 anos em que a autora atuou na educação infantil. Pesquisas indicam que\, historicamente\, bebês negros ganharam e ganham menos colo e precisam ser mais independentes\, uma vez que suas presenças são ostracizadas em instituições educacionais. A obra faz uma convocação para que o colo seja direito de bebês e crianças negros\, migrantes\, indígenas\, brancos e traz possibilidades de caminhos\, reflexões à implementação da Lei n. 10.639/2003\, que assevera o ensino da história e cultura africana e afro-brasileira. Cenas reais do cotidiano e pedidos de mães negras compõem esse texto\, que espera contribuir para a formação continuada de educadores de espaços formais e informais\, mães\, pais\, familiares e pessoas comprometidas com a formação antirracista e a construção de uma sociedade mais justa e equitativa. \n
URL:https://blog.livrariadavila.com.br/event/democratizacao-do-colo-educacao-antirracista-para-e-com-bebes-e-criancas-pequenas-jussara-santos-ed-papirus/
LOCATION:Rua Fradique Coutinho\, 915 - Pinheiros\, São Paulo\, São Paulo\, 05416-011\, Brasil
GEO:-23.5592934;-46.6892019
X-APPLE-STRUCTURED-LOCATION;VALUE=URI;X-ADDRESS=Rua Fradique Coutinho 915 - Pinheiros São Paulo São Paulo 05416-011 Brasil;X-APPLE-RADIUS=500;X-TITLE=Rua Fradique Coutinho\, 915 - Pinheiros:geo:-46.6892019,-23.5592934
CATEGORIES:LANÇAMENTOS,SESSÕES DE AUTÓGRAFOS
END:VEVENT
END:VCALENDAR