BEGIN:VCALENDAR
VERSION:2.0
PRODID:-//VILA - Blog - ECPv4.5.12.2//NONSGML v1.0//EN
CALSCALE:GREGORIAN
METHOD:PUBLISH
X-WR-CALNAME:VILA - Blog
X-ORIGINAL-URL:https://blog.livrariadavila.com.br
X-WR-CALDESC:Events for VILA - Blog
BEGIN:VEVENT
DTSTART;TZID=America/Sao_Paulo:20181203T183000
DTEND;TZID=America/Sao_Paulo:20181203T213000
DTSTAMP:20260421T104607
CREATED:20181203T134744Z
LAST-MODIFIED:20181203T134744Z
UID:23975-1543861800-1543872600@blog.livrariadavila.com.br
SUMMARY:Democratização do poder judiciário no Brasil e Reforma Política
DESCRIPTION: Com argúcia e objetividade\, o autor analisa\, de início\, a dimensão política da magistratura para\, na sequência\, abordar criticamente temas candentes como o recrutamento e a formação dos juízes e a necessidade urgente de profanação da magistratura. \nDe Maurício Corrêa de Moura Rezende \n  \n  \n  \n  \n  \n Em linguagem acessível\, a autora observa como algumas reformas políticas foram implementadas de forma a afastar o povo do poder\, ao passo que outras iniciativas de democratização e renovação política não são concretizadas. Nas palavras da própria autora\, a eterna reforma política é um meio de mudar para evitar a mudança. \nDe Eneida Desiree Salgado \n  \nEd. Contracorrente \nHaverá bate-papo com os autores \n
URL:https://blog.livrariadavila.com.br/event/democratizacao-do-poder-judiciario-no-brasil-e-reforma-politica/
LOCATION:Avenida do Batel\, nº 1868 – Loja 314 piso L3\, Curitiba\, Paraná\, 80420-090\, Brasil
GEO:-25.443012;-49.2899507
X-APPLE-STRUCTURED-LOCATION;VALUE=URI;X-ADDRESS=Avenida do Batel nº 1868 – Loja 314 piso L3 Curitiba Paraná 80420-090 Brasil;X-APPLE-RADIUS=500;X-TITLE=Avenida do Batel\, nº 1868 – Loja 314 piso L3:geo:-49.2899507,-25.443012
CATEGORIES:BATE-PAPO,LANÇAMENTOS,SESSÕES DE AUTÓGRAFOS
END:VEVENT
END:VCALENDAR