BEGIN:VCALENDAR
VERSION:2.0
PRODID:-//VILA - Blog - ECPv4.5.12.2//NONSGML v1.0//EN
CALSCALE:GREGORIAN
METHOD:PUBLISH
X-WR-CALNAME:VILA - Blog
X-ORIGINAL-URL:https://blog.livrariadavila.com.br
X-WR-CALDESC:Events for VILA - Blog
BEGIN:VEVENT
DTSTART;TZID=America/Sao_Paulo:20181219T183000
DTEND;TZID=America/Sao_Paulo:20181219T213000
DTSTAMP:20260420T182639
CREATED:20181128T143944Z
LAST-MODIFIED:20181128T143944Z
UID:23722-1545244200-1545255000@blog.livrariadavila.com.br
SUMMARY:Desafios no trabalho com família - da teoria à prática
DESCRIPTION: Este livro apresenta os estudos dos membros do grupo de pesquisa (GEPFAC)\, vinculado a Universidade Federal de São Paulo e CNPq\, e versa sobre temas relacionados à família\, casal e comunidade.\nTrata-se de textos que buscam a compreensão de uma nova estruturação da família contemporânea\, com temas da atualidade\, que necessitam de reflexão\, mudança de paradigma e busca de novas estratégias de enfrentamento.\nPara tanto\, os autores convidam os leitores para uma viagem compartilhada por meio dos capítulos\, que foram cuidadosamente preparados. Esperamos que gostem e que as temáticas estimulem reflexões e práticas no cuidado com famílias\, casais e comunidade. \nDe Ana Lucia de Moraes Horta e Celina Daspett (Orgs.) \nEd. CRV \n
URL:https://blog.livrariadavila.com.br/event/desafios-no-trabalho-com-familia-da-teoria-a-pratica/
LOCATION:Av. Juscelino Kubitschek\, 2041 - Itaim Bibi\, São Paulo\, São Paulo\, 04543-011\, Brasil
GEO:-23.5914219;-46.6898224
X-APPLE-STRUCTURED-LOCATION;VALUE=URI;X-ADDRESS=Av. Juscelino Kubitschek 2041 - Itaim Bibi São Paulo São Paulo 04543-011 Brasil;X-APPLE-RADIUS=500;X-TITLE=Av. Juscelino Kubitschek\, 2041 - Itaim Bibi:geo:-46.6898224,-23.5914219
CATEGORIES:LANÇAMENTOS,SESSÕES DE AUTÓGRAFOS
END:VEVENT
END:VCALENDAR