BEGIN:VCALENDAR
VERSION:2.0
PRODID:-//VILA - Blog - ECPv4.5.12.2//NONSGML v1.0//EN
CALSCALE:GREGORIAN
METHOD:PUBLISH
X-WR-CALNAME:VILA - Blog
X-ORIGINAL-URL:https://blog.livrariadavila.com.br
X-WR-CALDESC:Events for VILA - Blog
BEGIN:VEVENT
DTSTART;TZID=America/Sao_Paulo:20230928T180000
DTEND;TZID=America/Sao_Paulo:20230928T210000
DTSTAMP:20260420T063105
CREATED:20230919T142008Z
LAST-MODIFIED:20230919T142008Z
UID:119468-1695924000-1695934800@blog.livrariadavila.com.br
SUMMARY:DESALMA - MÔNICA VENEROTTI – ED. LITERARE
DESCRIPTION:\n\n\n\n\n\nA menina que se transformou em meio aos livros. Mônica Venerotti é uma jovem mulher que se desabrocha entre as páginas de duas obras com muita sensibilidade. Em “Desnuda”\, sua obra inaugural\, vemos o amadurecimento dos versos\, das questões trazidas a debate em forma de poesia. Em “Desalma”\, Mônica busca traduzir a sua busca pelo equilíbrio entre razão e emoção em uma fase tão tenra da vida\, cheia de inúmeras descobertas. A autora apresenta 80 poesias com temas relevantes\, como amor\, racismo\, solidão\, dor\, superação\, entre outros\, que ganham corpo nas linhas poéticas. Por meio de suas obras\, a jovem autora convida a todos a adentrar em um universo profundo e intimista\, onde as emoções são expressadas com delicadeza e intensidade. É uma leitura indispensável para os amantes da poesia\, que buscam se emocionar e refletir sobre a vida e seus desafios.”\n\n\n\n\n
URL:https://blog.livrariadavila.com.br/event/desalma-monica-venerotti-ed-literare/
LOCATION:Av. Rebouças\, 3970 Piso 1 - Pinheiros\, São Paulo\, São Paulo\, 05402-600
END:VEVENT
END:VCALENDAR