BEGIN:VCALENDAR
VERSION:2.0
PRODID:-//VILA - Blog - ECPv4.5.12.2//NONSGML v1.0//EN
CALSCALE:GREGORIAN
METHOD:PUBLISH
X-WR-CALNAME:VILA - Blog
X-ORIGINAL-URL:https://blog.livrariadavila.com.br
X-WR-CALDESC:Events for VILA - Blog
BEGIN:VEVENT
DTSTART;TZID=America/Sao_Paulo:20180928T190000
DTEND;TZID=America/Sao_Paulo:20180928T213000
DTSTAMP:20260424T062255
CREATED:20180903T182258Z
LAST-MODIFIED:20180903T190130Z
UID:22179-1538161200-1538170200@blog.livrariadavila.com.br
SUMMARY:Desconstruindo o silenciamento feminino: Inês Pedrosa e a narrativa performática de Fazes-me Falta
DESCRIPTION: Desconstruindo o silenciamento feminino abarca um enfoque literário-crítico inovador\, visto estabelecer um estreito diálogo analítico entre estética e política em uma unidade de sentido perfeita\, empreendendo\, a partir de tal associação\, a análise da obra literária em seus efeitos de sentidos críticos ao silenciamento da voz da mulher na sociedade patriarcal portuguesa.\nA partir desta proposta ousada\, Telma Ventura convida seus(as) leitores(as)\, inicialmente\, a visitarem o contexto literário português contemporâneo\, incitando-os a pensar acerca dos traços da atual produção romanesca portuguesa\, e atentando-os para aspectos como o hibridismo genológico\, o diálogo interartístico e a escritura rizomática – os quais\, conforme demonstrado por meio de uma fundamentação teórica consistente e atual – contribuem para a construção de uma estrutura denominada narrativa performática. \nDe Telma Ventura  \nEd. Todas as Musas \n
URL:https://blog.livrariadavila.com.br/event/desconstruindo-o-silenciamento-feminino-ines-pedrosa-e-a-narrativa-performatica-de-fazes-me-falta/
LOCATION:Rua Fradique Coutinho\, 915 - Pinheiros\, São Paulo\, São Paulo\, 05416-011\, Brasil
GEO:-23.5592934;-46.6892019
X-APPLE-STRUCTURED-LOCATION;VALUE=URI;X-ADDRESS=Rua Fradique Coutinho 915 - Pinheiros São Paulo São Paulo 05416-011 Brasil;X-APPLE-RADIUS=500;X-TITLE=Rua Fradique Coutinho\, 915 - Pinheiros:geo:-46.6892019,-23.5592934
CATEGORIES:LANÇAMENTOS,SESSÕES DE AUTÓGRAFOS
END:VEVENT
END:VCALENDAR