BEGIN:VCALENDAR
VERSION:2.0
PRODID:-//VILA - Blog - ECPv4.5.12.2//NONSGML v1.0//EN
CALSCALE:GREGORIAN
METHOD:PUBLISH
X-WR-CALNAME:VILA - Blog
X-ORIGINAL-URL:https://blog.livrariadavila.com.br
X-WR-CALDESC:Events for VILA - Blog
BEGIN:VEVENT
DTSTART;TZID=America/Sao_Paulo:20181022T190000
DTEND;TZID=America/Sao_Paulo:20181022T203000
DTSTAMP:20260422T123018
CREATED:20181001T182206Z
LAST-MODIFIED:20181001T182221Z
UID:22680-1540234800-1540240200@blog.livrariadavila.com.br
SUMMARY:Desconstruir para construir - Corpo & Saúde
DESCRIPTION:No Outubro Rosa\, que alerta sobre o câncer de mama\, Desconstruir para Construir reflete sobre Corpo & Saúde \nCorpo & Saúde é o tema da edição especial do projeto Desconstruir para Construir que acontece dia 22 de outubro\, segunda-feira\, na loja da Fradique. Espaço de reflexão\, diálogo e debate\, o evento\, mediado pela jornalista Regina Volpato\, apresentadora do programa Mulheres\, da TV Gazeta\, terá\, com o apoio da editora Sextante\, três autores cujos livros e trabalhos confirmam o longo alcance de um assunto que se transformou em prioridade na vida contemporânea. O psiquiatra e escritor Daniel Martins de Barros\, autor de Pílulas de bem-estar\, a nutricionista Sophie Deram\, autora do best-seller O peso das dietas\, e a jornalista Daiana Garbin\, que lançou o livro Fazendo as pazes com o corpo\, sobre a experiência do transtorno alimentar\, são os convidados da noite. \nEvento gratuito (auditório) \n  \n
URL:https://blog.livrariadavila.com.br/event/desconstruir-para-construir-corpo-saude/
LOCATION:Rua Fradique Coutinho\, 915 - Pinheiros\, São Paulo\, São Paulo\, 05416-011\, Brasil
GEO:-23.5592934;-46.6892019
X-APPLE-STRUCTURED-LOCATION;VALUE=URI;X-ADDRESS=Rua Fradique Coutinho 915 - Pinheiros São Paulo São Paulo 05416-011 Brasil;X-APPLE-RADIUS=500;X-TITLE=Rua Fradique Coutinho\, 915 - Pinheiros:geo:-46.6892019,-23.5592934
CATEGORIES:BATE-PAPO,PALESTRAS
END:VEVENT
END:VCALENDAR