BEGIN:VCALENDAR
VERSION:2.0
PRODID:-//VILA - Blog - ECPv4.5.12.2//NONSGML v1.0//EN
CALSCALE:GREGORIAN
METHOD:PUBLISH
X-WR-CALNAME:VILA - Blog
X-ORIGINAL-URL:https://blog.livrariadavila.com.br
X-WR-CALDESC:Events for VILA - Blog
BEGIN:VEVENT
DTSTART;TZID=America/Sao_Paulo:20240316T180000
DTEND;TZID=America/Sao_Paulo:20240316T210000
DTSTAMP:20260419T154303
CREATED:20240314T161725Z
LAST-MODIFIED:20240314T162940Z
UID:121582-1710612000-1710622800@blog.livrariadavila.com.br
SUMMARY:DEVOCIONAL PROVÉRBIOS DIÁRIOS E SEJA SUA PRÓPRIA HEROÍNA - MARCIA VALÉRIA MARCONI E GER BITTENCOURT – ED. MARCONI
DESCRIPTION: \n  \nAs reflexões dos capítulos do Livro da Sabedoria que faremos aqui serão para te ajudar no seu devocional diário e fizemos com a inspiração do Espírito Santo em oração para te entregar nosso melhor \n  \n \n  \nHistórias de superação e incentivo a outras pessoas salvarem vidas com gestos simples de contínuos \n
URL:https://blog.livrariadavila.com.br/event/devolcional-proverbios-diarios-e-seja-sua-propria-heroina-marcia-valeria-marconi-e-ger-bittencourt-ed-marconi/
LOCATION:Avenida do Batel\, nº 1868 – Loja 314 piso L3\, Curitiba\, Paraná\, 80420-090\, Brasil
GEO:-25.443012;-49.2899507
X-APPLE-STRUCTURED-LOCATION;VALUE=URI;X-ADDRESS=Avenida do Batel nº 1868 – Loja 314 piso L3 Curitiba Paraná 80420-090 Brasil;X-APPLE-RADIUS=500;X-TITLE=Avenida do Batel\, nº 1868 – Loja 314 piso L3:geo:-49.2899507,-25.443012
END:VEVENT
END:VCALENDAR