BEGIN:VCALENDAR
VERSION:2.0
PRODID:-//VILA - Blog - ECPv4.5.12.2//NONSGML v1.0//EN
CALSCALE:GREGORIAN
METHOD:PUBLISH
X-WR-CALNAME:VILA - Blog
X-ORIGINAL-URL:https://blog.livrariadavila.com.br
X-WR-CALDESC:Events for VILA - Blog
BEGIN:VEVENT
DTSTART;TZID=America/Sao_Paulo:20221022T103000
DTEND;TZID=America/Sao_Paulo:20221022T130000
DTSTAMP:20260420T102231
CREATED:20221018T165756Z
LAST-MODIFIED:20221018T165756Z
UID:115664-1666434600-1666443600@blog.livrariadavila.com.br
SUMMARY:DIÁLOGOS DO LACANEANDO - BATE-PAPO COM LUCIANO ELIA\, ESTANISLAU ALVES DA SILVA FILHO\, LAERTE DE PAULA E BÁRBARA CRISTINA\, COM MEDIAÇÃO DE PATRIZIA CORSETTO
DESCRIPTION: \n
URL:https://blog.livrariadavila.com.br/event/dialogos-do-lacaneando-bate-papo-com-luciano-elia-estanislau-alves-da-silva-filho-laerte-de-paula-e-barbara-cristina-com-mediacao-de-patrizia-corsetto/
LOCATION:Rua Fradique Coutinho\, 915 - Pinheiros\, São Paulo\, São Paulo\, 05416-011\, Brasil
GEO:-23.5592934;-46.6892019
X-APPLE-STRUCTURED-LOCATION;VALUE=URI;X-ADDRESS=Rua Fradique Coutinho 915 - Pinheiros São Paulo São Paulo 05416-011 Brasil;X-APPLE-RADIUS=500;X-TITLE=Rua Fradique Coutinho\, 915 - Pinheiros:geo:-46.6892019,-23.5592934
END:VEVENT
END:VCALENDAR