BEGIN:VCALENDAR
VERSION:2.0
PRODID:-//VILA - Blog - ECPv4.5.12.2//NONSGML v1.0//EN
CALSCALE:GREGORIAN
METHOD:PUBLISH
X-WR-CALNAME:VILA - Blog
X-ORIGINAL-URL:https://blog.livrariadavila.com.br
X-WR-CALDESC:Events for VILA - Blog
BEGIN:VEVENT
DTSTART;TZID=America/Sao_Paulo:20181027T103000
DTEND;TZID=America/Sao_Paulo:20181027T133000
DTSTAMP:20260423T151619
CREATED:20180920T171547Z
LAST-MODIFIED:20180920T171547Z
UID:22542-1540636200-1540647000@blog.livrariadavila.com.br
SUMMARY:Diálogos do Lacaneando - Marx: o inventor do sintoma?
DESCRIPTION:O debate tem como ponto de partida a afirmação de Lacan de que seria Karl Marx o inventor do sintoma. Os psicanalistas Raul Pacheco\, Ivan Estevão e Odonel Serrano abordarão os conceitos de mais valia\, sintoma\, discurso capitalista\, laço social e cultura com mediação da jornalista e psicanalista Patrizia Corsetto. \nEvento gratuito (auditório) \n
URL:https://blog.livrariadavila.com.br/event/dialogos-do-lacaneando-marx-o-inventor-do-sintoma/
CATEGORIES:PALESTRAS
END:VEVENT
END:VCALENDAR