BEGIN:VCALENDAR
VERSION:2.0
PRODID:-//VILA - Blog - ECPv4.5.12.2//NONSGML v1.0//EN
CALSCALE:GREGORIAN
METHOD:PUBLISH
X-WR-CALNAME:VILA - Blog
X-ORIGINAL-URL:https://blog.livrariadavila.com.br
X-WR-CALDESC:Events for VILA - Blog
BEGIN:VEVENT
DTSTART;TZID=America/Sao_Paulo:20190316T110000
DTEND;TZID=America/Sao_Paulo:20190316T133000
DTSTAMP:20260420T134731
CREATED:20190220T201048Z
LAST-MODIFIED:20190220T201048Z
UID:93474-1552734000-1552743000@blog.livrariadavila.com.br
SUMMARY:Diálogos do Lacaneando - Psicanálise e políticas públicas
DESCRIPTION:As psicanalistas Maria Virginia Cremasco\, Adriane Wollmann e Michele Borges vão debater a importância das políticas públicas no âmbito da saúde mental\, da assistência social\, na prevenção e tratamento de dependentes químicos e estratégias de redução de danos. Quais são as perspectivas atuais para políticas públicas e o papel da psicanálise no debate dessas questões. A mediação é da jornalista e psicanalista Patrizia Corsetto. \nEvento gratuito \n
URL:https://blog.livrariadavila.com.br/event/dialogos-do-lacaneando-psicanalise-e-politicas-publicas/
LOCATION:Avenida do Batel\, nº 1868 – Loja 314 piso L3\, Curitiba\, Paraná\, 80420-090\, Brasil
GEO:-25.443012;-49.2899507
X-APPLE-STRUCTURED-LOCATION;VALUE=URI;X-ADDRESS=Avenida do Batel nº 1868 – Loja 314 piso L3 Curitiba Paraná 80420-090 Brasil;X-APPLE-RADIUS=500;X-TITLE=Avenida do Batel\, nº 1868 – Loja 314 piso L3:geo:-49.2899507,-25.443012
CATEGORIES:PALESTRAS
END:VEVENT
END:VCALENDAR