BEGIN:VCALENDAR
VERSION:2.0
PRODID:-//VILA - Blog - ECPv4.5.12.2//NONSGML v1.0//EN
CALSCALE:GREGORIAN
METHOD:PUBLISH
X-WR-CALNAME:VILA - Blog
X-ORIGINAL-URL:https://blog.livrariadavila.com.br
X-WR-CALDESC:Events for VILA - Blog
BEGIN:VEVENT
DTSTART;TZID=America/Sao_Paulo:20221125T180000
DTEND;TZID=America/Sao_Paulo:20221125T210000
DTSTAMP:20260422T161557
CREATED:20221025T212816Z
LAST-MODIFIED:20221117T204007Z
UID:115790-1669399200-1669410000@blog.livrariadavila.com.br
SUMMARY:DICIONÁRIO INTERAMERICANO DE DIREITOS HUMANOS - ISABELLA LOUISE TRAUB SOARES DE SOUZA\, BIANCA KETLYN ANDERLE CORREIA\, ANA LETÍCIA SZKUDLAREK\, MURIEL BRENNA VOLZ E FERNANDA IZÍDIO CÂMARA - ED. LUMEN JURIS
DESCRIPTION: \n  \nO Dicionário Interamericano de Direitos Humanos\, idealizado pelo Núcleo de Estudos em Sistemas de Direitos Humanos da Universidade Federal do Paraná (NESIDH-UFPR)\, coordenado pela Professora Dra. Melina Girardi Fachin\, é constituído por verbetes sobre importantes temas e conceitos referentes ao Sistema Interamericano de Direitos Humanos (SIDH). Dividido em três volumes\, o dicionário é destinado aos acadêmicos\, pesquisadores e operadores do direito\, com o objetivo de ampliar o conhecimento acerca do SIDH em seus aspectos processuais e procedimentais (volume 1)\, deveres e direitos (volume 2) e grupos vulneráveis (volume 3)\, totalizando mais de 300 verbetes acerca do tema. \n
URL:https://blog.livrariadavila.com.br/event/dicionario-interamericano-de-direitos-humanos-isabella-louise-traub-soares-de-souza-bianca-ketlyn-anderle-correia-ana-leticia-szkudlarek-muriel-brenna-volz-e-fernanda-izidio-camara/
LOCATION:Avenida do Batel\, nº 1868 – Loja 314 piso L3\, Curitiba\, Paraná\, 80420-090\, Brasil
GEO:-25.443012;-49.2899507
X-APPLE-STRUCTURED-LOCATION;VALUE=URI;X-ADDRESS=Avenida do Batel nº 1868 – Loja 314 piso L3 Curitiba Paraná 80420-090 Brasil;X-APPLE-RADIUS=500;X-TITLE=Avenida do Batel\, nº 1868 – Loja 314 piso L3:geo:-49.2899507,-25.443012
END:VEVENT
END:VCALENDAR