BEGIN:VCALENDAR
VERSION:2.0
PRODID:-//VILA - Blog - ECPv4.5.12.2//NONSGML v1.0//EN
CALSCALE:GREGORIAN
METHOD:PUBLISH
X-WR-CALNAME:VILA - Blog
X-ORIGINAL-URL:https://blog.livrariadavila.com.br
X-WR-CALDESC:Events for VILA - Blog
BEGIN:VEVENT
DTSTART;TZID=America/Sao_Paulo:20191024T183000
DTEND;TZID=America/Sao_Paulo:20191024T213000
DTSTAMP:20260422T122922
CREATED:20191002T175044Z
LAST-MODIFIED:20191002T175044Z
UID:99546-1571941800-1571952600@blog.livrariadavila.com.br
SUMMARY:Direito Aduaneiro - Vol 1 e Vol 2
DESCRIPTION:   \n  \nDe Herbert Cornelio Pieter de Bruyn Júnior \nJuruá Editora \n
URL:https://blog.livrariadavila.com.br/event/direito-aduaneiro-vol-1-e-vol-2/
CATEGORIES:LANÇAMENTOS,SESSÕES DE AUTÓGRAFOS
END:VEVENT
END:VCALENDAR