BEGIN:VCALENDAR
VERSION:2.0
PRODID:-//VILA - Blog - ECPv4.5.12.2//NONSGML v1.0//EN
CALSCALE:GREGORIAN
METHOD:PUBLISH
X-WR-CALNAME:VILA - Blog
X-ORIGINAL-URL:https://blog.livrariadavila.com.br
X-WR-CALDESC:Events for VILA - Blog
BEGIN:VEVENT
DTSTART;TZID=America/Sao_Paulo:20191031T183000
DTEND;TZID=America/Sao_Paulo:20191031T213000
DTSTAMP:20260422T092055
CREATED:20191002T181032Z
LAST-MODIFIED:20191002T181032Z
UID:99553-1572546600-1572557400@blog.livrariadavila.com.br
SUMMARY:Direito e liberdade
DESCRIPTION: \nA presente obra coletiva surgiu dos estudos críticos realizados na disciplina “Direito e Liberdade” do Mestrado em Direito da Pontifícia Universidade Católica de São Paulo – PUC/SP. Juntaram-se a eles outros estudiosos do tema que se debruçam no fazer cientifico/acadêmico\, com a perspectiva de contribuir com uma temática sempre tão urgente e atual. Os estudos empreendidos na referida disciplina possibilitaram visões distintas sobre a Liberdade e o Direito\, nos mais diferentes recortes epistemológicos\, que estimulou à produção do presente trabalho. Nesta obra o leitor poderá se deleitar com os questionamentos sobre liberdade de expressão\, de comunicação\, de pensamento\, de locomoção\, liberdade públicas e provadas e liberdade política\, dentre outras. \n  \nDe Luis Frederico Balsalobre Pinto \nEd. Lumen Juris \n
URL:https://blog.livrariadavila.com.br/event/direito-e-liberdade/
CATEGORIES:PALESTRAS,SESSÕES DE AUTÓGRAFOS
END:VEVENT
END:VCALENDAR