BEGIN:VCALENDAR
VERSION:2.0
PRODID:-//VILA - Blog - ECPv4.5.12.2//NONSGML v1.0//EN
CALSCALE:GREGORIAN
METHOD:PUBLISH
X-WR-CALNAME:VILA - Blog
X-ORIGINAL-URL:https://blog.livrariadavila.com.br
X-WR-CALDESC:Events for VILA - Blog
BEGIN:VEVENT
DTSTART;TZID=America/Sao_Paulo:20181123T183000
DTEND;TZID=America/Sao_Paulo:20181123T213000
DTSTAMP:20260420T201011
CREATED:20181106T183949Z
LAST-MODIFIED:20181106T183949Z
UID:23407-1542997800-1543008600@blog.livrariadavila.com.br
SUMMARY:Direito fundamental a saúde e medicamentos de alto custo
DESCRIPTION:Para contribuir para o enriquecimento do debate\, o autor também sugere medidas que\, a seu ver\, podem racionalizar o acesso aos medicamentos de alto custo\, promovendo\, assim\, a máxima efetividade possível deste preceito fundamental \nDe Daniel Castanha de Freitas \nEd. Fórum \n
URL:https://blog.livrariadavila.com.br/event/direito-fundamental-a-saude-e-medicamentos-de-alto-custo/
LOCATION:Avenida do Batel\, nº 1868 – Loja 314 piso L3\, Curitiba\, Paraná\, 80420-090\, Brasil
GEO:-25.443012;-49.2899507
X-APPLE-STRUCTURED-LOCATION;VALUE=URI;X-ADDRESS=Avenida do Batel nº 1868 – Loja 314 piso L3 Curitiba Paraná 80420-090 Brasil;X-APPLE-RADIUS=500;X-TITLE=Avenida do Batel\, nº 1868 – Loja 314 piso L3:geo:-49.2899507,-25.443012
CATEGORIES:LANÇAMENTOS,SESSÕES DE AUTÓGRAFOS
END:VEVENT
END:VCALENDAR