BEGIN:VCALENDAR
VERSION:2.0
PRODID:-//VILA - Blog - ECPv4.5.12.2//NONSGML v1.0//EN
CALSCALE:GREGORIAN
METHOD:PUBLISH
X-WR-CALNAME:VILA - Blog
X-ORIGINAL-URL:https://blog.livrariadavila.com.br
X-WR-CALDESC:Events for VILA - Blog
BEGIN:VEVENT
DTSTART;TZID=America/Sao_Paulo:20190423T183000
DTEND;TZID=America/Sao_Paulo:20190423T213000
DTSTAMP:20260420T212744
CREATED:20190327T155104Z
LAST-MODIFIED:20190327T155104Z
UID:95800-1556044200-1556055000@blog.livrariadavila.com.br
SUMMARY:Direito penal do trabalho
DESCRIPTION:Você que está pensando em adquirir uma obra com uma visão constitucional do direito do trabalho e do direito penal\, encontrou a certa.\nEste trabalho é fruto da experiência e do estudo de três autores que\, com diversas reuniões e discussões sobre o tema\, explicitam com objetividade aquilo que deve ser aplicado no dia a dia do profissional.\nSabemos que o direito tem uma única fonte e temos que ter essa visão de diversos ramos\, é isto que esse livro traz ao profissional da área\, para que ele tenha um diferencial no mercado e saiba se destacar nesse mundo competitivo.\nPara isso\, apresentamos essa obra.\nDestaque-se e seja bem-vindo! \nDe Joseval Peixoto\, JB Oliveira e Gleibe Pretti \nEd. LTr \n
URL:https://blog.livrariadavila.com.br/event/direito-penal-do-trabalho/
CATEGORIES:LANÇAMENTOS,SESSÕES DE AUTÓGRAFOS
END:VEVENT
END:VCALENDAR