BEGIN:VCALENDAR
VERSION:2.0
PRODID:-//VILA - Blog - ECPv4.5.12.2//NONSGML v1.0//EN
CALSCALE:GREGORIAN
METHOD:PUBLISH
X-WR-CALNAME:VILA - Blog
X-ORIGINAL-URL:https://blog.livrariadavila.com.br
X-WR-CALDESC:Events for VILA - Blog
BEGIN:VEVENT
DTSTART;TZID=America/Sao_Paulo:20180929T153000
DTEND;TZID=America/Sao_Paulo:20180929T213000
DTSTAMP:20260423T171053
CREATED:20180917T160105Z
LAST-MODIFIED:20180917T160105Z
UID:22478-1538235000-1538256600@blog.livrariadavila.com.br
SUMMARY:Direitos humanos e democracia - estudos em homenagem ao prof. Vital Moreira
DESCRIPTION: Esta obra homenageia o Professor Doutor Vital Moreira\, Catedrático da Faculdade de Direito da Universidade de Coimbra. Os autores puderam inspirar-se nos ensinamentos do Professor Vital por ocasião do Seminário de pós-doutoramento do Ius Gentium Conimbrigae. Embebidos deste conhecimento e inspirados para a tarefa de difundi-lo\, apresentam nos artigos desta coletânea temas da maior importância para a discussão de dois elementos fundamentais da contemporaneidade: os direitos humanos e a democracia. Os vastos ensinamentos do Professor Vital\, desde a constituição econômica e constituição política até os desafios para a consolidação dos direitos fundamentais na União Europeia\, foram da maior valia para esta empreitada. \nDe Antônio Ernani Pedroso Calhao\, Rafael Lessa Vieira de Sá Menezes (orgs.) \nEd. Lumen Juris \n
URL:https://blog.livrariadavila.com.br/event/direitos-humanos-e-democracia-estudos-em-homenagem-ao-prof-vital-moreira/
CATEGORIES:LANÇAMENTOS,SESSÕES DE AUTÓGRAFOS
END:VEVENT
END:VCALENDAR