BEGIN:VCALENDAR
VERSION:2.0
PRODID:-//VILA - Blog - ECPv4.5.12.2//NONSGML v1.0//EN
CALSCALE:GREGORIAN
METHOD:PUBLISH
X-WR-CALNAME:VILA - Blog
X-ORIGINAL-URL:https://blog.livrariadavila.com.br
X-WR-CALDESC:Events for VILA - Blog
BEGIN:VEVENT
DTSTART;TZID=America/Sao_Paulo:20191204T183000
DTEND;TZID=America/Sao_Paulo:20191204T213000
DTSTAMP:20260423T032250
CREATED:20191202T190634Z
LAST-MODIFIED:20191202T190715Z
UID:104475-1575484200-1575495000@blog.livrariadavila.com.br
SUMMARY:Direitos sociais
DESCRIPTION: \nDireitos sociais: conceitos e aplicabilidade assume um desafio árduo. Diante de tema repetitivo\, inconclusivo e objeto de milhares de estudos\, como ser original? Os “direitos sociais” se prestam à demagogia política e à fantasmagoria jurídica. São criticados à direita e à esquerda. Como descrevê-los de maneira operacional e funcional? Como evitar que a semântica igualitarista\, redistributiva e redentora dos mais fracos se transforme no seu oposto\, ou seja\, “direitos sociais” como cortina retórica que aprofunda desigualdades\, socializa riscos assimetricamente e perpetua estruturas seletivas perversas? Neste livro atual e útil\, o autor\, de modo criativo\, explora os paradoxos aninhados no debate jurídico sobre os “direitos sociais” e constrói seu argumento com lógica demonstrativa forte e exemplar. Procura explicar as razões pelas quais\, ao invés de serem tratados como “direitos subjetivos públicos”\, a complexidade social que pretendem enfrentar e os “casos difíceis” que devem resolver exigem que os “direitos sociais” sejam conceitualizados como direitos difusos e adjudicados coletivamente. \n  \n  \n  \nDe Thiago dos Santos Acca \nEd. Almedina \n
URL:https://blog.livrariadavila.com.br/event/direitos-sociais/
CATEGORIES:LANÇAMENTOS,SESSÕES DE AUTÓGRAFOS
END:VEVENT
END:VCALENDAR