BEGIN:VCALENDAR
VERSION:2.0
PRODID:-//VILA - Blog - ECPv4.5.12.2//NONSGML v1.0//EN
CALSCALE:GREGORIAN
METHOD:PUBLISH
X-WR-CALNAME:VILA - Blog
X-ORIGINAL-URL:https://blog.livrariadavila.com.br
X-WR-CALDESC:Events for VILA - Blog
BEGIN:VEVENT
DTSTART;TZID=America/Sao_Paulo:20260602T180000
DTEND;TZID=America/Sao_Paulo:20260602T210000
DTSTAMP:20260425T152416
CREATED:20260424T211325Z
LAST-MODIFIED:20260424T211325Z
UID:133596-1780423200-1780434000@blog.livrariadavila.com.br
SUMMARY:DO CONFLITO AO ENCONTRO - CARLA BOIN - ED. MANOLE
DESCRIPTION: \n\n\n\n\nO chamado da Cultura Generativa: o futuro é Feminino. Vivemos um tempo de transição profunda. As crises ecológicas\, sociais e existenciais revelam o esgotamento dos paradigmas que orientaram a modernidade\, bem como de suas narrativas baseadas na separação e na hierarquia. Os antigos binarismos\, razão e emoção\, natureza e cultura\, masculino e feminino\, já não conseguem sustentar a complexidade da vida. Vivemos uma crise de imaginação que exige novas maneiras de nos relacionarmos e habitarmos o mundo.É nesse horizonte que surge a proposta da Cultura Generativa\, não apenas como conceito\, mas como chamado. Generativa é a vida que se reinventa\, que cria sem romper com suas raízes\, que integra memória e futuro. Trata-se de um modo de pensar e viver orientado pela capacidade de gerar\, cuidar e fortalecer vínculos. O Feminino aparece como princípio dessa transformação\, entendido como potência de gestação e sustentação da vida\, presente em todas as pessoas e comunidades.Após a travessia teórica\, o livro se abre às experiências vividas\, nas quais a Cultura Generativa acontece em atos. Estudos e práticas revelam como a Justiça Restaurativa e a Mediação podem transformar conflitos em caminhos de reconexão\, mostrando que um futuro mais relacional e cuidadoso começa a nascer no presente.Proposições desta obra:• A Cultura Generativa se define pela capacidade de gerar\, cuidar\, integrar e fortalecer a vida em todas as suas dimensões.• A Cultura Generativa se cumpre em práticas. • O futuro é Feminino. O Feminino é a força que nutre\, acolhe e transforma.• O Feminino não é uma identidade fixa\, e sim um princípio dinâmico de relacionalidade. • Propõe o Pensamento Rizomático: o rizoma é uma estrutura sem centro ou origem única\, que cresce de forma horizontal e conectada\, valorizando a multiplicidade\, a diferença e o constante processo de transformação.• A Justiça Restaurativa e a Mediação entendidas como filosofias de vida pautadas em um conjunto de valores e um movimento social.• O conflito\, nesta perspectiva\, não é um problema a ser eliminado\, mas uma oportunidade de aprendizado e crescimento coletivo. • A Justiça Restaurativa entende que o conflito não é o fim\, mas um ponto de partida para a transformação.• Pressupõe o Princípio do Não Saber\, que exige uma postura ética que suspende certezas\, questiona as posições de poder e devolve às pessoas o direito de produzirem sentido sobre suas vivências.• A restauração não é retorno a um estado idealizado\, mas criação contínua de nova\n\n\n\n\n
URL:https://blog.livrariadavila.com.br/event/do-conflito-ao-encontro-carla-boin-ed-manole/
LOCATION:Rua Fradique Coutinho\, 915 - Pinheiros\, São Paulo\, São Paulo\, 05416-011\, Brasil
GEO:-23.5592934;-46.6892019
X-APPLE-STRUCTURED-LOCATION;VALUE=URI;X-ADDRESS=Rua Fradique Coutinho 915 - Pinheiros São Paulo São Paulo 05416-011 Brasil;X-APPLE-RADIUS=500;X-TITLE=Rua Fradique Coutinho\, 915 - Pinheiros:geo:-46.6892019,-23.5592934
CATEGORIES:LANÇAMENTOS,SESSÕES DE AUTÓGRAFOS
END:VEVENT
END:VCALENDAR