BEGIN:VCALENDAR
VERSION:2.0
PRODID:-//VILA - Blog - ECPv4.5.12.2//NONSGML v1.0//EN
CALSCALE:GREGORIAN
METHOD:PUBLISH
X-WR-CALNAME:VILA - Blog
X-ORIGINAL-URL:https://blog.livrariadavila.com.br
X-WR-CALDESC:Events for VILA - Blog
BEGIN:VEVENT
DTSTART;TZID=America/Sao_Paulo:20181024T183000
DTEND;TZID=America/Sao_Paulo:20181024T213000
DTSTAMP:20260421T055009
CREATED:20181008T191239Z
LAST-MODIFIED:20181008T191239Z
UID:22914-1540405800-1540416600@blog.livrariadavila.com.br
SUMMARY:Do corpo desmedido ao corpo ultramedido - As narrativas do corpo na revista brasileira
DESCRIPTION: Qual a imagem de corpo feminino editada pela revista brasileira a partir dos anos 60? Para acompanhar as alterações dos corpos e identificar signos transformadores da imagem feminina na sociedade brasileira\, o corpus desta investigação é composto de 56 capas de uma revista brasileira e as respectivas reportagens que têm como tema central o culto ao corpo. Além de registrar e categorizar os vários tipos de corpos apresentados no semanário\, Selma Felerico também identifica quais modelos são deixados de lado.\nOs novos estudos do corpo na área de comunicação e na análise das significações das imagens corporais e comportamentais estão aqui muito bem encaminhados. \nDe Selma Felerico \nEd. Appris \n
URL:https://blog.livrariadavila.com.br/event/do-corpo-desmedido-ao-corpo-ultramedido-as-narrativas-do-corpo-na-revista-brasileira/
LOCATION:Av. Higienópolis\, 618 – Higienópolis\, São Paulo\, SP\, 01238-000\, Brasil
GEO:-23.542049;-46.6577148
X-APPLE-STRUCTURED-LOCATION;VALUE=URI;X-ADDRESS=Av. Higienópolis 618 – Higienópolis São Paulo SP 01238-000 Brasil;X-APPLE-RADIUS=500;X-TITLE=Av. Higienópolis\, 618 – Higienópolis:geo:-46.6577148,-23.542049
CATEGORIES:LANÇAMENTOS,SESSÕES DE AUTÓGRAFOS
END:VEVENT
END:VCALENDAR