BEGIN:VCALENDAR
VERSION:2.0
PRODID:-//VILA - Blog - ECPv4.5.12.2//NONSGML v1.0//EN
CALSCALE:GREGORIAN
METHOD:PUBLISH
X-WR-CALNAME:VILA - Blog
X-ORIGINAL-URL:https://blog.livrariadavila.com.br
X-WR-CALDESC:Events for VILA - Blog
BEGIN:VEVENT
DTSTART;TZID=America/Sao_Paulo:20181016T183000
DTEND;TZID=America/Sao_Paulo:20181016T213000
DTSTAMP:20260423T094417
CREATED:20180917T154746Z
LAST-MODIFIED:20180926T135255Z
UID:22471-1539714600-1539725400@blog.livrariadavila.com.br
SUMMARY:Do jeito delas: histórias de empreendedoras pelo mundo
DESCRIPTION:Esse livro é uma celebração de histórias de empreendedorismo lideradas por mulheres. Uma “estrada” trilhada por 24 países que mostrou a força\, a determinação e impacto dessas empreendedoras ao redor do mundo. Acreditamos que o livro seja também um chamamento\, um convite à reflexão e à ação de todos para que histórias como essas sejam apoiadas e celebradas sempre. \nDe Taciana Mello e Fernanda Moura \nIndependente \n
URL:https://blog.livrariadavila.com.br/event/do-jeito-delas-historias-de-empreendedoras-pelo-mundo/
LOCATION:Av. Juscelino Kubitschek\, 2041 - Itaim Bibi\, São Paulo\, São Paulo\, 04543-011\, Brasil
GEO:-23.5914219;-46.6898224
X-APPLE-STRUCTURED-LOCATION;VALUE=URI;X-ADDRESS=Av. Juscelino Kubitschek 2041 - Itaim Bibi São Paulo São Paulo 04543-011 Brasil;X-APPLE-RADIUS=500;X-TITLE=Av. Juscelino Kubitschek\, 2041 - Itaim Bibi:geo:-46.6898224,-23.5914219
CATEGORIES:LANÇAMENTOS,SESSÕES DE AUTÓGRAFOS
END:VEVENT
END:VCALENDAR