BEGIN:VCALENDAR
VERSION:2.0
PRODID:-//VILA - Blog - ECPv4.5.12.2//NONSGML v1.0//EN
CALSCALE:GREGORIAN
METHOD:PUBLISH
X-WR-CALNAME:VILA - Blog
X-ORIGINAL-URL:https://blog.livrariadavila.com.br
X-WR-CALDESC:Events for VILA - Blog
BEGIN:VEVENT
DTSTART;TZID=America/Sao_Paulo:20241019T103000
DTEND;TZID=America/Sao_Paulo:20241019T133000
DTSTAMP:20260425T103521
CREATED:20240820T184303Z
LAST-MODIFIED:20240820T184303Z
UID:123822-1729333800-1729344600@blog.livrariadavila.com.br
SUMMARY:DO LUTO IMPEDIDO AO LUTO COLETIVO - SANDRA LUZIA DE SOUZA ALENCAR - BLUCHER
DESCRIPTION: \n\n\n\n\nNesta obra\, a autora detecta de forma inédita o modo de operação dosprocessos autoritários sobre o sujeito em situações de violência esubalternização – o impedimento do luto aí comparece comoestratégia política de silenciamento. Avança também na direçãodo tratamento dessas questões\, fundamentando a prática psicanalíticaclínico-política realizada no território onde os sujeitostecem seus cotidianos\, moram\, trabalham\, nascem e morrem.Este trabalho foi um dos que fundamentou e alicerçou o lugar dapolítica na clínica psicanalítica quando a maioria dos psicanalistasjulgava ser a política um campo exterior ao campo psicanalítico\,ou que a psicanálise poderia contribuir para a análise filosóficae/ou para a crítica social das violências\, sem desdobramentos paraa prática clínica\, sem a escuta dos sujeitos enredados nessastramas de poder.Miriam Debieux Rosa\n\n\n\n\n
URL:https://blog.livrariadavila.com.br/event/do-luto-impedido-ao-luto-coletivo-sandra-luzia-de-souza-alencar-blucher/
LOCATION:Rua Fradique Coutinho\, 915 - Pinheiros\, São Paulo\, São Paulo\, 05416-011\, Brasil
GEO:-23.5592934;-46.6892019
X-APPLE-STRUCTURED-LOCATION;VALUE=URI;X-ADDRESS=Rua Fradique Coutinho 915 - Pinheiros São Paulo São Paulo 05416-011 Brasil;X-APPLE-RADIUS=500;X-TITLE=Rua Fradique Coutinho\, 915 - Pinheiros:geo:-46.6892019,-23.5592934
END:VEVENT
END:VCALENDAR