BEGIN:VCALENDAR
VERSION:2.0
PRODID:-//VILA - Blog - ECPv4.5.12.2//NONSGML v1.0//EN
CALSCALE:GREGORIAN
METHOD:PUBLISH
X-WR-CALNAME:VILA - Blog
X-ORIGINAL-URL:https://blog.livrariadavila.com.br
X-WR-CALDESC:Events for VILA - Blog
BEGIN:VEVENT
DTSTART;TZID=America/Sao_Paulo:20190416T183000
DTEND;TZID=America/Sao_Paulo:20190416T213000
DTSTAMP:20260420T182510
CREATED:20190326T195659Z
LAST-MODIFIED:20190326T195659Z
UID:95792-1555439400-1555450200@blog.livrariadavila.com.br
SUMMARY:...E SE NÃO FOR ASSIM? - O Paradigma Quântico e a Espiritualidade
DESCRIPTION:De Luiz Augusto de Barros Penteado \nEd. RG Editores \n
URL:https://blog.livrariadavila.com.br/event/e-se-nao-for-assim-o-paradigma-quantico-e-a-espiritualidade/
CATEGORIES:LANÇAMENTOS,SESSÕES DE AUTÓGRAFOS
END:VEVENT
END:VCALENDAR