BEGIN:VCALENDAR
VERSION:2.0
PRODID:-//VILA - Blog - ECPv4.5.12.2//NONSGML v1.0//EN
CALSCALE:GREGORIAN
METHOD:PUBLISH
X-WR-CALNAME:VILA - Blog
X-ORIGINAL-URL:https://blog.livrariadavila.com.br
X-WR-CALDESC:Events for VILA - Blog
BEGIN:VEVENT
DTSTART;TZID=America/Sao_Paulo:20191011T183000
DTEND;TZID=America/Sao_Paulo:20191011T213000
DTSTAMP:20260420T225757
CREATED:20191003T162803Z
LAST-MODIFIED:20191003T162803Z
UID:99629-1570818600-1570829400@blog.livrariadavila.com.br
SUMMARY:E se o amor não for rosa?
DESCRIPTION: \nAtravés de questões\, ou talvez inquietações\, Muller traça a trajetória da personagem Julia\, uma aspirante a bailarina profissional\, que vê na dança\, na Companhia de Dança do Município\, uma forma de ignorar seu passado\, fugir de seu presente e idealizar seu futuro. “E se…” não temos as respostas\, mas temos as perguntas\, o caminho e a busca podem se tornar mais interessantes? \n  \nEd. Vanessa Muller \nEd. Giostri \n
URL:https://blog.livrariadavila.com.br/event/e-se-o-amor-nao-for-rosa-2/
LOCATION:Avenida do Batel\, nº 1868 – Loja 314 piso L3\, Curitiba\, Paraná\, 80420-090\, Brasil
GEO:-25.443012;-49.2899507
X-APPLE-STRUCTURED-LOCATION;VALUE=URI;X-ADDRESS=Avenida do Batel nº 1868 – Loja 314 piso L3 Curitiba Paraná 80420-090 Brasil;X-APPLE-RADIUS=500;X-TITLE=Avenida do Batel\, nº 1868 – Loja 314 piso L3:geo:-49.2899507,-25.443012
CATEGORIES:LANÇAMENTOS,SESSÕES DE AUTÓGRAFOS
END:VEVENT
END:VCALENDAR