BEGIN:VCALENDAR
VERSION:2.0
PRODID:-//VILA - Blog - ECPv4.5.12.2//NONSGML v1.0//EN
CALSCALE:GREGORIAN
METHOD:PUBLISH
X-WR-CALNAME:VILA - Blog
X-ORIGINAL-URL:https://blog.livrariadavila.com.br
X-WR-CALDESC:Events for VILA - Blog
BEGIN:VEVENT
DTSTART;TZID=America/Sao_Paulo:20190115T100000
DTEND;TZID=America/Sao_Paulo:20190115T180000
DTSTAMP:20260420T182420
CREATED:20181218T161003Z
LAST-MODIFIED:20181218T161003Z
UID:53602-1547546400-1547575200@blog.livrariadavila.com.br
SUMMARY:Educacuca
DESCRIPTION:Educacuca \nO objetivo primordial do Educacuca é promover o desenvolvimento\, a aprendizagem e a socialização das crianças em seus primeiros anos de vida\, além de instrumentalizar o adulto cuidador\, orientando-o e enriquecendo seu repertório de brincadeiras. Para isso\, oferecemos um programa em que a criança e um adulto responsável\, mediados por educadoras capacitadas\, participam de até dois encontros semanais em que\, inseridos num grupo\, vivenciam uma série de experiências lúdicas\, planejadas e organizadas cuidadosamente de modo a estimular seu desenvolvimento físico\, socioemocional e cognitivo\, além de propiciar a aquisição e o aprimoramento da linguagem verbal. \nPara agendamento de aula experimental e informações sobre horários para cada grupo\, consulte o site www.educacuca.com.br \nIdade Permitida: 3 a 30 meses. \n
URL:https://blog.livrariadavila.com.br/event/educacuca-39/2019-01-15/
CATEGORIES:CURSOS
END:VEVENT
END:VCALENDAR